BEGIN:VCALENDAR
VERSION:2.0
PRODID:-//Gemeinde Pilsach - ECPv6.15.18//NONSGML v1.0//EN
CALSCALE:GREGORIAN
METHOD:PUBLISH
X-WR-CALNAME:Gemeinde Pilsach
X-ORIGINAL-URL:https://pilsach.de
X-WR-CALDESC:Veranstaltungen für Gemeinde Pilsach
REFRESH-INTERVAL;VALUE=DURATION:PT1H
X-Robots-Tag:noindex
X-PUBLISHED-TTL:PT1H
BEGIN:VTIMEZONE
TZID:Europe/Berlin
BEGIN:DAYLIGHT
TZOFFSETFROM:+0100
TZOFFSETTO:+0200
TZNAME:CEST
DTSTART:20220327T010000
END:DAYLIGHT
BEGIN:STANDARD
TZOFFSETFROM:+0200
TZOFFSETTO:+0100
TZNAME:CET
DTSTART:20221030T010000
END:STANDARD
BEGIN:DAYLIGHT
TZOFFSETFROM:+0100
TZOFFSETTO:+0200
TZNAME:CEST
DTSTART:20230326T010000
END:DAYLIGHT
BEGIN:STANDARD
TZOFFSETFROM:+0200
TZOFFSETTO:+0100
TZNAME:CET
DTSTART:20231029T010000
END:STANDARD
BEGIN:DAYLIGHT
TZOFFSETFROM:+0100
TZOFFSETTO:+0200
TZNAME:CEST
DTSTART:20240331T010000
END:DAYLIGHT
BEGIN:STANDARD
TZOFFSETFROM:+0200
TZOFFSETTO:+0100
TZNAME:CET
DTSTART:20241027T010000
END:STANDARD
BEGIN:DAYLIGHT
TZOFFSETFROM:+0100
TZOFFSETTO:+0200
TZNAME:CEST
DTSTART:20250330T010000
END:DAYLIGHT
BEGIN:STANDARD
TZOFFSETFROM:+0200
TZOFFSETTO:+0100
TZNAME:CET
DTSTART:20251026T010000
END:STANDARD
BEGIN:DAYLIGHT
TZOFFSETFROM:+0100
TZOFFSETTO:+0200
TZNAME:CEST
DTSTART:20260329T010000
END:DAYLIGHT
BEGIN:STANDARD
TZOFFSETFROM:+0200
TZOFFSETTO:+0100
TZNAME:CET
DTSTART:20261025T010000
END:STANDARD
BEGIN:DAYLIGHT
TZOFFSETFROM:+0100
TZOFFSETTO:+0200
TZNAME:CEST
DTSTART:20270328T010000
END:DAYLIGHT
BEGIN:STANDARD
TZOFFSETFROM:+0200
TZOFFSETTO:+0100
TZNAME:CET
DTSTART:20271031T010000
END:STANDARD
END:VTIMEZONE
BEGIN:VEVENT
DTSTART;TZID=Europe/Berlin:20260109T190000
DTEND;TZID=Europe/Berlin:20260109T230000
DTSTAMP:20260423T055327
CREATED:20251106T073007Z
LAST-MODIFIED:20251106T073007Z
UID:10000590-1767985200-1767999600@pilsach.de
SUMMARY:Jahreshauptversammlung
DESCRIPTION:
URL:https://pilsach.de/veranstaltung/jahreshauptversammlung/
LOCATION:Bistro Niederhofen
END:VEVENT
BEGIN:VEVENT
DTSTART;VALUE=DATE:20260102
DTEND;VALUE=DATE:20260103
DTSTAMP:20260423T055327
CREATED:20240110T104839Z
LAST-MODIFIED:20250304T091201Z
UID:10000464-1767312000-1767398399@pilsach.de
SUMMARY:Christbaumversteigerung - FF Dietkirchen
DESCRIPTION:19:00 Uhr
URL:https://pilsach.de/veranstaltung/christbaumversteigerung-srk-dietkirchen/
LOCATION:Bistro Niederhofen
CATEGORIES:Verein/Organisation
END:VEVENT
BEGIN:VEVENT
DTSTART;VALUE=DATE:20251004
DTEND;VALUE=DATE:20251006
DTSTAMP:20260423T055327
CREATED:20230508T140111Z
LAST-MODIFIED:20250227T101018Z
UID:10000439-1759536000-1759708799@pilsach.de
SUMMARY:Vereinsausflug - FF Dietkirchen
DESCRIPTION:
URL:https://pilsach.de/veranstaltung/vereinsausflug-ff-pfeffertshofen/
CATEGORIES:Verein/Organisation
END:VEVENT
BEGIN:VEVENT
DTSTART;VALUE=DATE:20250620
DTEND;VALUE=DATE:20250621
DTSTAMP:20260423T055327
CREATED:20240111T095024Z
LAST-MODIFIED:20250226T104213Z
UID:10000503-1750377600-1750463999@pilsach.de
SUMMARY:Sonnwendfeier FF Dietkirchen
DESCRIPTION:19:00 Uhr – Am Steingrün \nErsatztermin bei schlechter Witterung: Samstag\, 27.06.2025
URL:https://pilsach.de/veranstaltung/sonnwendfeier-ff-dietkirchen-2/
LOCATION:Am Steingrün
CATEGORIES:Veranstaltungen
END:VEVENT
BEGIN:VEVENT
DTSTART;VALUE=DATE:20250529
DTEND;VALUE=DATE:20250530
DTSTAMP:20260423T055327
CREATED:20250226T102009Z
LAST-MODIFIED:20250226T102009Z
UID:10000558-1748476800-1748563199@pilsach.de
SUMMARY:Vatertagsfeier
DESCRIPTION:14:00 Uhr
URL:https://pilsach.de/veranstaltung/vatertagsfeier/
END:VEVENT
BEGIN:VEVENT
DTSTART;VALUE=DATE:20250202
DTEND;VALUE=DATE:20250203
DTSTAMP:20260423T055327
CREATED:20250225T100803Z
LAST-MODIFIED:20250225T100842Z
UID:10000544-1738454400-1738540799@pilsach.de
SUMMARY:Weißwurstfrühstück
DESCRIPTION:09:30 Uhr
URL:https://pilsach.de/veranstaltung/weisswurtsfruehstueck/
LOCATION:Feuerwehrhaus Niederhofen
END:VEVENT
BEGIN:VEVENT
DTSTART;VALUE=DATE:20230616
DTEND;VALUE=DATE:20230617
DTSTAMP:20260423T055327
CREATED:20230508T130925Z
LAST-MODIFIED:20230508T130925Z
UID:10000421-1686873600-1686959999@pilsach.de
SUMMARY:Sonnwendfeier - FF Dietkirchen
DESCRIPTION:19:00 Uhr \nErsatztermine bei schlechter Witterung: 23.06. oder 24.06.2023
URL:https://pilsach.de/veranstaltung/sonnwendfeier-ff-dietkirchen/
LOCATION:Am Steingrün
CATEGORIES:Verein/Organisation
END:VEVENT
END:VCALENDAR