BEGIN:VCALENDAR
VERSION:2.0
PRODID:-//Gemeinde Pilsach - ECPv6.15.18//NONSGML v1.0//EN
CALSCALE:GREGORIAN
METHOD:PUBLISH
X-WR-CALNAME:Gemeinde Pilsach
X-ORIGINAL-URL:https://pilsach.de
X-WR-CALDESC:Veranstaltungen für Gemeinde Pilsach
REFRESH-INTERVAL;VALUE=DURATION:PT1H
X-Robots-Tag:noindex
X-PUBLISHED-TTL:PT1H
BEGIN:VTIMEZONE
TZID:Europe/Berlin
BEGIN:DAYLIGHT
TZOFFSETFROM:+0100
TZOFFSETTO:+0200
TZNAME:CEST
DTSTART:20220327T010000
END:DAYLIGHT
BEGIN:STANDARD
TZOFFSETFROM:+0200
TZOFFSETTO:+0100
TZNAME:CET
DTSTART:20221030T010000
END:STANDARD
BEGIN:DAYLIGHT
TZOFFSETFROM:+0100
TZOFFSETTO:+0200
TZNAME:CEST
DTSTART:20230326T010000
END:DAYLIGHT
BEGIN:STANDARD
TZOFFSETFROM:+0200
TZOFFSETTO:+0100
TZNAME:CET
DTSTART:20231029T010000
END:STANDARD
BEGIN:DAYLIGHT
TZOFFSETFROM:+0100
TZOFFSETTO:+0200
TZNAME:CEST
DTSTART:20240331T010000
END:DAYLIGHT
BEGIN:STANDARD
TZOFFSETFROM:+0200
TZOFFSETTO:+0100
TZNAME:CET
DTSTART:20241027T010000
END:STANDARD
BEGIN:DAYLIGHT
TZOFFSETFROM:+0100
TZOFFSETTO:+0200
TZNAME:CEST
DTSTART:20250330T010000
END:DAYLIGHT
BEGIN:STANDARD
TZOFFSETFROM:+0200
TZOFFSETTO:+0100
TZNAME:CET
DTSTART:20251026T010000
END:STANDARD
BEGIN:DAYLIGHT
TZOFFSETFROM:+0100
TZOFFSETTO:+0200
TZNAME:CEST
DTSTART:20260329T010000
END:DAYLIGHT
BEGIN:STANDARD
TZOFFSETFROM:+0200
TZOFFSETTO:+0100
TZNAME:CET
DTSTART:20261025T010000
END:STANDARD
BEGIN:DAYLIGHT
TZOFFSETFROM:+0100
TZOFFSETTO:+0200
TZNAME:CEST
DTSTART:20270328T010000
END:DAYLIGHT
BEGIN:STANDARD
TZOFFSETFROM:+0200
TZOFFSETTO:+0100
TZNAME:CET
DTSTART:20271031T010000
END:STANDARD
END:VTIMEZONE
BEGIN:VEVENT
DTSTART;VALUE=DATE:20260411
DTEND;VALUE=DATE:20260412
DTSTAMP:20260423T092048
CREATED:20251106T105447Z
LAST-MODIFIED:20251106T105447Z
UID:10000618-1775865600-1775951999@pilsach.de
SUMMARY:Rama Dama
DESCRIPTION:
URL:https://pilsach.de/veranstaltung/rama-dama/
LOCATION:Feuerwehrhaus Pilsach\, Germany
END:VEVENT
BEGIN:VEVENT
DTSTART;TZID=Europe/Berlin:20260307T193000
DTEND;TZID=Europe/Berlin:20260308T030000
DTSTAMP:20260423T092048
CREATED:20251106T082757Z
LAST-MODIFIED:20251106T082757Z
UID:10000610-1772911800-1772938800@pilsach.de
SUMMARY:Starkbierfest
DESCRIPTION:
URL:https://pilsach.de/veranstaltung/starkbierfest/
LOCATION:Gasthaus Siegert
END:VEVENT
BEGIN:VEVENT
DTSTART;TZID=Europe/Berlin:20260221T193000
DTEND;TZID=Europe/Berlin:20260221T230000
DTSTAMP:20260423T092048
CREATED:20251106T082108Z
LAST-MODIFIED:20251106T082108Z
UID:10000606-1771702200-1771714800@pilsach.de
SUMMARY:Jahreshauptversammlung
DESCRIPTION:
URL:https://pilsach.de/veranstaltung/jahreshauptversammlung-4/
LOCATION:Feuerwehrhaus Pilsach\, Germany
END:VEVENT
BEGIN:VEVENT
DTSTART;VALUE=DATE:20260221
DTEND;VALUE=DATE:20260222
DTSTAMP:20260423T092048
CREATED:20240111T082853Z
LAST-MODIFIED:20250304T093336Z
UID:10000480-1771632000-1771718399@pilsach.de
SUMMARY:Jahreshauptversammlung - FF Pilsach
DESCRIPTION:19:00 Uhr
URL:https://pilsach.de/veranstaltung/jahreshauptversammlung-ff-pilsach/
LOCATION:Gasthaus Schuster
CATEGORIES:Verein/Organisation
END:VEVENT
BEGIN:VEVENT
DTSTART;VALUE=DATE:20251129
DTEND;VALUE=DATE:20251130
DTSTAMP:20260423T092048
CREATED:20250227T112256Z
LAST-MODIFIED:20250227T112356Z
UID:10000572-1764374400-1764460799@pilsach.de
SUMMARY:Vereinsausflug - FF Pilsach
DESCRIPTION:zum Weihnachtmarkt Abensberg
URL:https://pilsach.de/veranstaltung/vereinsausflug-ff-pilsach/
CATEGORIES:Verein/Organisation
END:VEVENT
BEGIN:VEVENT
DTSTART;VALUE=DATE:20251025
DTEND;VALUE=DATE:20251026
DTSTAMP:20260423T092048
CREATED:20240112T084541Z
LAST-MODIFIED:20250227T103317Z
UID:10000518-1761350400-1761436799@pilsach.de
SUMMARY:Kameradschaftsabend FF Pilsach
DESCRIPTION:19:30 Uhr
URL:https://pilsach.de/veranstaltung/kameradschaftsabend/
LOCATION:Feuerwehrhaus Pilsach\, Germany
CATEGORIES:Verein/Organisation
END:VEVENT
BEGIN:VEVENT
DTSTART;VALUE=DATE:20250619
DTEND;VALUE=DATE:20250620
DTSTAMP:20260423T092048
CREATED:20240111T094252Z
LAST-MODIFIED:20250226T104048Z
UID:10000502-1750291200-1750377599@pilsach.de
SUMMARY:Grillfest FF Pilsach
DESCRIPTION:
URL:https://pilsach.de/veranstaltung/grillfest-ff-pilsach-2/
LOCATION:Feuerwehrhaus Pilsach\, Germany
CATEGORIES:Veranstaltungen
END:VEVENT
BEGIN:VEVENT
DTSTART;VALUE=DATE:20250322
DTEND;VALUE=DATE:20250323
DTSTAMP:20260423T092048
CREATED:20240111T083634Z
LAST-MODIFIED:20250225T110009Z
UID:10000483-1742601600-1742687999@pilsach.de
SUMMARY:Starkbierfest FF Pilsach
DESCRIPTION:20:00 Uhr
URL:https://pilsach.de/veranstaltung/starkbierfest-ff-pilsach/
LOCATION:Gasthaus Siegert
CATEGORIES:Veranstaltungen,Verein/Organisation
END:VEVENT
BEGIN:VEVENT
DTSTART;VALUE=DATE:20250308
DTEND;VALUE=DATE:20250309
DTSTAMP:20260423T092048
CREATED:20250305T084639Z
LAST-MODIFIED:20250305T084753Z
UID:10000582-1741392000-1741478399@pilsach.de
SUMMARY:Jahreshauptversammlung - FF Pilsach
DESCRIPTION:19:00 Uhr
URL:https://pilsach.de/veranstaltung/jahreshauptversammlung-ff-pilsach-2/
LOCATION:Gasthof Am Schloss
END:VEVENT
BEGIN:VEVENT
DTSTART;VALUE=DATE:20230608
DTEND;VALUE=DATE:20230609
DTSTAMP:20260423T092048
CREATED:20230508T130227Z
LAST-MODIFIED:20230508T130227Z
UID:10000419-1686182400-1686268799@pilsach.de
SUMMARY:Grillfest - FF Pilsach
DESCRIPTION:14:00 Uhr
URL:https://pilsach.de/veranstaltung/grillfest-ff-pilsach/
LOCATION:Feuerwehrhaus Pilsach\, Germany
CATEGORIES:Verein/Organisation
END:VEVENT
END:VCALENDAR