BEGIN:VCALENDAR
VERSION:2.0
PRODID:-//Gemeinde Pilsach - ECPv6.15.18//NONSGML v1.0//EN
CALSCALE:GREGORIAN
METHOD:PUBLISH
X-ORIGINAL-URL:https://pilsach.de
X-WR-CALDESC:Veranstaltungen für Gemeinde Pilsach
REFRESH-INTERVAL;VALUE=DURATION:PT1H
X-Robots-Tag:noindex
X-PUBLISHED-TTL:PT1H
BEGIN:VTIMEZONE
TZID:Europe/Berlin
BEGIN:DAYLIGHT
TZOFFSETFROM:+0100
TZOFFSETTO:+0200
TZNAME:CEST
DTSTART:20220327T010000
END:DAYLIGHT
BEGIN:STANDARD
TZOFFSETFROM:+0200
TZOFFSETTO:+0100
TZNAME:CET
DTSTART:20221030T010000
END:STANDARD
BEGIN:DAYLIGHT
TZOFFSETFROM:+0100
TZOFFSETTO:+0200
TZNAME:CEST
DTSTART:20230326T010000
END:DAYLIGHT
BEGIN:STANDARD
TZOFFSETFROM:+0200
TZOFFSETTO:+0100
TZNAME:CET
DTSTART:20231029T010000
END:STANDARD
BEGIN:DAYLIGHT
TZOFFSETFROM:+0100
TZOFFSETTO:+0200
TZNAME:CEST
DTSTART:20240331T010000
END:DAYLIGHT
BEGIN:STANDARD
TZOFFSETFROM:+0200
TZOFFSETTO:+0100
TZNAME:CET
DTSTART:20241027T010000
END:STANDARD
BEGIN:DAYLIGHT
TZOFFSETFROM:+0100
TZOFFSETTO:+0200
TZNAME:CEST
DTSTART:20250330T010000
END:DAYLIGHT
BEGIN:STANDARD
TZOFFSETFROM:+0200
TZOFFSETTO:+0100
TZNAME:CET
DTSTART:20251026T010000
END:STANDARD
BEGIN:DAYLIGHT
TZOFFSETFROM:+0100
TZOFFSETTO:+0200
TZNAME:CEST
DTSTART:20260329T010000
END:DAYLIGHT
BEGIN:STANDARD
TZOFFSETFROM:+0200
TZOFFSETTO:+0100
TZNAME:CET
DTSTART:20261025T010000
END:STANDARD
BEGIN:DAYLIGHT
TZOFFSETFROM:+0100
TZOFFSETTO:+0200
TZNAME:CEST
DTSTART:20270328T010000
END:DAYLIGHT
BEGIN:STANDARD
TZOFFSETFROM:+0200
TZOFFSETTO:+0100
TZNAME:CET
DTSTART:20271031T010000
END:STANDARD
END:VTIMEZONE
BEGIN:VEVENT
DTSTART;VALUE=DATE:20260419
DTEND;VALUE=DATE:20260420
DTSTAMP:20260423T105116
CREATED:20251106T105731Z
LAST-MODIFIED:20251106T105731Z
UID:10000620-1776556800-1776643199@pilsach.de
SUMMARY:Gewerbeschau Pilsach
DESCRIPTION:
URL:https://pilsach.de/veranstaltung/gewerbeschau-pilsach/
LOCATION:Sportgelände Pilsach
END:VEVENT
BEGIN:VEVENT
DTSTART;VALUE=DATE:20260411
DTEND;VALUE=DATE:20260412
DTSTAMP:20260423T105116
CREATED:20251106T105447Z
LAST-MODIFIED:20251106T105447Z
UID:10000618-1775865600-1775951999@pilsach.de
SUMMARY:Rama Dama
DESCRIPTION:
URL:https://pilsach.de/veranstaltung/rama-dama/
LOCATION:Feuerwehrhaus Pilsach\, Germany
END:VEVENT
BEGIN:VEVENT
DTSTART;TZID=Europe/Berlin:20260213T140000
DTEND;TZID=Europe/Berlin:20260213T190000
DTSTAMP:20260423T105116
CREATED:20251106T081528Z
LAST-MODIFIED:20251106T081528Z
UID:10000603-1770991200-1771009200@pilsach.de
SUMMARY:Seniorenfasching
DESCRIPTION:
URL:https://pilsach.de/veranstaltung/seniorenfasching/
LOCATION:Gasthaus Schuster
END:VEVENT
BEGIN:VEVENT
DTSTART;VALUE=DATE:20251006
DTEND;VALUE=DATE:20251007
DTSTAMP:20260423T105116
CREATED:20240112T083905Z
LAST-MODIFIED:20250227T101715Z
UID:10000515-1759708800-1759795199@pilsach.de
SUMMARY:Terminabsprache 2026 mit Vorschau auf 2027
DESCRIPTION:19:00 Uhr
URL:https://pilsach.de/veranstaltung/terminabsprache-2025-mit-vorschau-auf-2026/
LOCATION:Gasthaus Siegert
CATEGORIES:Gemeinde
END:VEVENT
BEGIN:VEVENT
DTSTART;VALUE=DATE:20250919
DTEND;VALUE=DATE:20250920
DTSTAMP:20260423T105116
CREATED:20240112T081641Z
LAST-MODIFIED:20250227T095122Z
UID:10000511-1758240000-1758326399@pilsach.de
SUMMARY:Helferessen für Ferienprogramm 2025
DESCRIPTION:18:30 Uhr
URL:https://pilsach.de/veranstaltung/helferessen-fuer-ferienprogramm-2024/
CATEGORIES:Gemeinde
END:VEVENT
BEGIN:VEVENT
DTSTART;VALUE=DATE:20250727
DTEND;VALUE=DATE:20250728
DTSTAMP:20260423T105116
CREATED:20230508T133421Z
LAST-MODIFIED:20250226T112456Z
UID:10000428-1753574400-1753660799@pilsach.de
SUMMARY:Dorffest Pilsach
DESCRIPTION:
URL:https://pilsach.de/veranstaltung/dorffest-875-jahre-gemeinde-pilsach/
CATEGORIES:Gemeinde
END:VEVENT
BEGIN:VEVENT
DTSTART;VALUE=DATE:20231217
DTEND;VALUE=DATE:20231218
DTSTAMP:20260423T105116
CREATED:20230509T084234Z
LAST-MODIFIED:20240124T122215Z
UID:10000455-1702771200-1702857599@pilsach.de
SUMMARY:Weihnachtsmarkt Pilsach
DESCRIPTION:14.00 Uhr
URL:https://pilsach.de/veranstaltung/weihnachtsmarkt-pilsach/
LOCATION:Grundschule Pilsach
CATEGORIES:Gemeinde
END:VEVENT
BEGIN:VEVENT
DTSTART;VALUE=DATE:20231009
DTEND;VALUE=DATE:20231010
DTSTAMP:20260423T105116
CREATED:20230508T134516Z
LAST-MODIFIED:20230508T134609Z
UID:10000433-1696809600-1696895999@pilsach.de
SUMMARY:TERMINABSPRACHE für das Jahr 2024
DESCRIPTION:19:00 Uhr
URL:https://pilsach.de/veranstaltung/terminabsprache-fuer-das-jahr-2024/
LOCATION:Gasthaus Siegert
CATEGORIES:Gemeinde,Verein/Organisation
END:VEVENT
BEGIN:VEVENT
DTSTART;VALUE=DATE:20230915
DTEND;VALUE=DATE:20230916
DTSTAMP:20260423T105116
CREATED:20230508T134252Z
LAST-MODIFIED:20230508T134252Z
UID:10000432-1694736000-1694822399@pilsach.de
SUMMARY:Helferessen Ferienprogramm 2023
DESCRIPTION:18:30 Uhr
URL:https://pilsach.de/veranstaltung/helferessen-ferienprogramm-2023/
CATEGORIES:Gemeinde
END:VEVENT
BEGIN:VEVENT
DTSTART;VALUE=DATE:20230703
DTEND;VALUE=DATE:20230704
DTSTAMP:20260423T105116
CREATED:20230508T133223Z
LAST-MODIFIED:20230508T133223Z
UID:10000427-1688342400-1688428799@pilsach.de
SUMMARY:Ehrung jahrgangsbeste Schüler
DESCRIPTION:11:00 Uhr
URL:https://pilsach.de/veranstaltung/ehrung-jahrgangsbeste-schueler/
CATEGORIES:Gemeinde
END:VEVENT
END:VCALENDAR