BEGIN:VCALENDAR
VERSION:2.0
PRODID:-//Gemeinde Pilsach - ECPv6.15.18//NONSGML v1.0//EN
CALSCALE:GREGORIAN
METHOD:PUBLISH
X-WR-CALNAME:Gemeinde Pilsach
X-ORIGINAL-URL:https://pilsach.de
X-WR-CALDESC:Veranstaltungen für Gemeinde Pilsach
REFRESH-INTERVAL;VALUE=DURATION:PT1H
X-Robots-Tag:noindex
X-PUBLISHED-TTL:PT1H
BEGIN:VTIMEZONE
TZID:Europe/Berlin
BEGIN:DAYLIGHT
TZOFFSETFROM:+0100
TZOFFSETTO:+0200
TZNAME:CEST
DTSTART:20250330T010000
END:DAYLIGHT
BEGIN:STANDARD
TZOFFSETFROM:+0200
TZOFFSETTO:+0100
TZNAME:CET
DTSTART:20251026T010000
END:STANDARD
BEGIN:DAYLIGHT
TZOFFSETFROM:+0100
TZOFFSETTO:+0200
TZNAME:CEST
DTSTART:20260329T010000
END:DAYLIGHT
BEGIN:STANDARD
TZOFFSETFROM:+0200
TZOFFSETTO:+0100
TZNAME:CET
DTSTART:20261025T010000
END:STANDARD
BEGIN:DAYLIGHT
TZOFFSETFROM:+0100
TZOFFSETTO:+0200
TZNAME:CEST
DTSTART:20270328T010000
END:DAYLIGHT
BEGIN:STANDARD
TZOFFSETFROM:+0200
TZOFFSETTO:+0100
TZNAME:CET
DTSTART:20271031T010000
END:STANDARD
END:VTIMEZONE
BEGIN:VEVENT
DTSTART;VALUE=DATE:20260717
DTEND;VALUE=DATE:20260720
DTSTAMP:20260420T123940
CREATED:20251106T141517Z
LAST-MODIFIED:20251106T141517Z
UID:10000640-1784246400-1784505599@pilsach.de
SUMMARY:Grottenfest Laaber
DESCRIPTION:
URL:https://pilsach.de/veranstaltung/grottenfest-laaber-2/
LOCATION:Grotte Laaber
END:VEVENT
BEGIN:VEVENT
DTSTART;VALUE=DATE:20260801
DTEND;VALUE=DATE:20260804
DTSTAMP:20260420T123940
CREATED:20251106T142115Z
LAST-MODIFIED:20251106T142115Z
UID:10000644-1785542400-1785801599@pilsach.de
SUMMARY:Kirwa Litzlohe
DESCRIPTION:
URL:https://pilsach.de/veranstaltung/kirwa-litzlohe-2/
LOCATION:Festplatz Litzlohe
END:VEVENT
BEGIN:VEVENT
DTSTART;TZID=Europe/Berlin:20261204T000000
DTEND;TZID=Europe/Berlin:20261204T000000
DTSTAMP:20260420T123940
CREATED:20251113T075610Z
LAST-MODIFIED:20251113T075610Z
UID:10000665-1796342400-1796342400@pilsach.de
SUMMARY:Nikolaus Hausbesuche
DESCRIPTION:
URL:https://pilsach.de/veranstaltung/nikolaus-hausbesuche-2/
END:VEVENT
BEGIN:VEVENT
DTSTART;TZID=Europe/Berlin:20261224T000000
DTEND;TZID=Europe/Berlin:20261224T000000
DTSTAMP:20260420T123940
CREATED:20251113T080912Z
LAST-MODIFIED:20251113T080912Z
UID:10000670-1798070400-1798070400@pilsach.de
SUMMARY:Glühweinverkauf nach der Christmette
DESCRIPTION:
URL:https://pilsach.de/veranstaltung/gluehweinverkauf-nach-der-christmette-2/
LOCATION:Pfarrheim Laaber
END:VEVENT
END:VCALENDAR