BEGIN:VCALENDAR
VERSION:2.0
PRODID:-//Gemeinde Pilsach - ECPv6.15.18//NONSGML v1.0//EN
CALSCALE:GREGORIAN
METHOD:PUBLISH
X-WR-CALNAME:Gemeinde Pilsach
X-ORIGINAL-URL:https://pilsach.de
X-WR-CALDESC:Veranstaltungen für Gemeinde Pilsach
REFRESH-INTERVAL;VALUE=DURATION:PT1H
X-Robots-Tag:noindex
X-PUBLISHED-TTL:PT1H
BEGIN:VTIMEZONE
TZID:Europe/Berlin
BEGIN:DAYLIGHT
TZOFFSETFROM:+0100
TZOFFSETTO:+0200
TZNAME:CEST
DTSTART:20250330T010000
END:DAYLIGHT
BEGIN:STANDARD
TZOFFSETFROM:+0200
TZOFFSETTO:+0100
TZNAME:CET
DTSTART:20251026T010000
END:STANDARD
BEGIN:DAYLIGHT
TZOFFSETFROM:+0100
TZOFFSETTO:+0200
TZNAME:CEST
DTSTART:20260329T010000
END:DAYLIGHT
BEGIN:STANDARD
TZOFFSETFROM:+0200
TZOFFSETTO:+0100
TZNAME:CET
DTSTART:20261025T010000
END:STANDARD
BEGIN:DAYLIGHT
TZOFFSETFROM:+0100
TZOFFSETTO:+0200
TZNAME:CEST
DTSTART:20270328T010000
END:DAYLIGHT
BEGIN:STANDARD
TZOFFSETFROM:+0200
TZOFFSETTO:+0100
TZNAME:CET
DTSTART:20271031T010000
END:STANDARD
END:VTIMEZONE
BEGIN:VEVENT
DTSTART;VALUE=DATE:20260505
DTEND;VALUE=DATE:20260506
DTSTAMP:20260423T070116
CREATED:20251106T110213Z
LAST-MODIFIED:20251106T110213Z
UID:10000622-1777939200-1778025599@pilsach.de
SUMMARY:Bittgang  nach Eispertshofen
DESCRIPTION:
URL:https://pilsach.de/veranstaltung/bittgang-nach-eispertshofen-2/
END:VEVENT
BEGIN:VEVENT
DTSTART;VALUE=DATE:20260509
DTEND;VALUE=DATE:20260510
DTSTAMP:20260423T070116
CREATED:20251106T110626Z
LAST-MODIFIED:20251106T110626Z
UID:10000623-1778284800-1778371199@pilsach.de
SUMMARY:Bittgang nach Trautmannshofen
DESCRIPTION:
URL:https://pilsach.de/veranstaltung/bittgang-nach-trautmannshofen-2/
END:VEVENT
BEGIN:VEVENT
DTSTART;VALUE=DATE:20260531
DTEND;VALUE=DATE:20260601
DTSTAMP:20260423T070116
CREATED:20251106T112207Z
LAST-MODIFIED:20251106T112207Z
UID:10000630-1780185600-1780271999@pilsach.de
SUMMARY:Maiandacht mit anschließender Maibowle
DESCRIPTION:
URL:https://pilsach.de/veranstaltung/maiandacht-mit-anschliessender-maibowle/
LOCATION:Pfarrgarten
END:VEVENT
BEGIN:VEVENT
DTSTART;TZID=Europe/Berlin:20260719T100000
DTEND;TZID=Europe/Berlin:20260719T170000
DTSTAMP:20260423T070116
CREATED:20251106T141630Z
LAST-MODIFIED:20251106T141630Z
UID:10000641-1784455200-1784480400@pilsach.de
SUMMARY:Pfarrfest Litzlohe
DESCRIPTION:
URL:https://pilsach.de/veranstaltung/pfarrfest-litzlohe-2/
LOCATION:Pfarrgarten
END:VEVENT
BEGIN:VEVENT
DTSTART;TZID=Europe/Berlin:20261201T000000
DTEND;TZID=Europe/Berlin:20261201T000000
DTSTAMP:20260423T070116
CREATED:20251113T075254Z
LAST-MODIFIED:20251113T075254Z
UID:10000664-1796083200-1796083200@pilsach.de
SUMMARY:Seniorennachmittag
DESCRIPTION:
URL:https://pilsach.de/veranstaltung/seniorennachmittag/
LOCATION:Pfarrheim Litzlohe
END:VEVENT
END:VCALENDAR