BEGIN:VCALENDAR
VERSION:2.0
PRODID:-//Gemeinde Pilsach - ECPv6.15.18//NONSGML v1.0//EN
CALSCALE:GREGORIAN
METHOD:PUBLISH
X-WR-CALNAME:Gemeinde Pilsach
X-ORIGINAL-URL:https://pilsach.de
X-WR-CALDESC:Veranstaltungen für Gemeinde Pilsach
REFRESH-INTERVAL;VALUE=DURATION:PT1H
X-Robots-Tag:noindex
X-PUBLISHED-TTL:PT1H
BEGIN:VTIMEZONE
TZID:Europe/Berlin
BEGIN:DAYLIGHT
TZOFFSETFROM:+0100
TZOFFSETTO:+0200
TZNAME:CEST
DTSTART:20220327T010000
END:DAYLIGHT
BEGIN:STANDARD
TZOFFSETFROM:+0200
TZOFFSETTO:+0100
TZNAME:CET
DTSTART:20221030T010000
END:STANDARD
BEGIN:DAYLIGHT
TZOFFSETFROM:+0100
TZOFFSETTO:+0200
TZNAME:CEST
DTSTART:20230326T010000
END:DAYLIGHT
BEGIN:STANDARD
TZOFFSETFROM:+0200
TZOFFSETTO:+0100
TZNAME:CET
DTSTART:20231029T010000
END:STANDARD
BEGIN:DAYLIGHT
TZOFFSETFROM:+0100
TZOFFSETTO:+0200
TZNAME:CEST
DTSTART:20240331T010000
END:DAYLIGHT
BEGIN:STANDARD
TZOFFSETFROM:+0200
TZOFFSETTO:+0100
TZNAME:CET
DTSTART:20241027T010000
END:STANDARD
BEGIN:DAYLIGHT
TZOFFSETFROM:+0100
TZOFFSETTO:+0200
TZNAME:CEST
DTSTART:20250330T010000
END:DAYLIGHT
BEGIN:STANDARD
TZOFFSETFROM:+0200
TZOFFSETTO:+0100
TZNAME:CET
DTSTART:20251026T010000
END:STANDARD
END:VTIMEZONE
BEGIN:VEVENT
DTSTART;VALUE=DATE:20240511
DTEND;VALUE=DATE:20240512
DTSTAMP:20260420T154447
CREATED:20240111T093926Z
LAST-MODIFIED:20240111T093926Z
UID:10000501-1715385600-1715471999@pilsach.de
SUMMARY:Saisonabschlussfeier Schützenverein Pilsach
DESCRIPTION:19:00 Uhr
URL:https://pilsach.de/veranstaltung/saisonabschlussfeier-schuetzenverein-pilsach/
LOCATION:Schützenhaus Pilsach\, Germany
CATEGORIES:Veranstaltungen
END:VEVENT
BEGIN:VEVENT
DTSTART;VALUE=DATE:20231209
DTEND;VALUE=DATE:20231210
DTSTAMP:20260420T154447
CREATED:20230509T083832Z
LAST-MODIFIED:20230509T083832Z
UID:10000453-1702080000-1702166399@pilsach.de
SUMMARY:Weihnachtsfeier
DESCRIPTION:17:30 Uhr – mit Christbaumkugelschießen
URL:https://pilsach.de/veranstaltung/weihnachtsfeier/
LOCATION:Schützenhaus Pilsach\, Germany
CATEGORIES:Verein/Organisation
END:VEVENT
BEGIN:VEVENT
DTSTART;VALUE=DATE:20231014
DTEND;VALUE=DATE:20231015
DTSTAMP:20260420T154447
CREATED:20230508T145046Z
LAST-MODIFIED:20230509T074820Z
UID:10000441-1697241600-1697327999@pilsach.de
SUMMARY:Königsfeier - Schützenverein Pilsach
DESCRIPTION:19:00 Uhr
URL:https://pilsach.de/veranstaltung/koenigsfeier/
LOCATION:Gasthof Am Schloss
CATEGORIES:Verein/Organisation
END:VEVENT
BEGIN:VEVENT
DTSTART;TZID=Europe/Berlin:20230520T190000
DTEND;TZID=Europe/Berlin:20230520T230000
DTSTAMP:20260420T154447
CREATED:20230323T153333Z
LAST-MODIFIED:20230323T153333Z
UID:10000415-1684609200-1684623600@pilsach.de
SUMMARY:Saisonabschlussfeier + Helferessen
DESCRIPTION:
URL:https://pilsach.de/veranstaltung/saisonabschlussfeier-helferessen/
LOCATION:Schützenhaus Pilsach\, Germany
CATEGORIES:Verein/Organisation
END:VEVENT
END:VCALENDAR