BEGIN:VCALENDAR
VERSION:2.0
PRODID:-//Gemeinde Pilsach - ECPv6.15.18//NONSGML v1.0//EN
CALSCALE:GREGORIAN
METHOD:PUBLISH
X-WR-CALNAME:Gemeinde Pilsach
X-ORIGINAL-URL:https://pilsach.de
X-WR-CALDESC:Veranstaltungen für Gemeinde Pilsach
REFRESH-INTERVAL;VALUE=DURATION:PT1H
X-Robots-Tag:noindex
X-PUBLISHED-TTL:PT1H
BEGIN:VTIMEZONE
TZID:Europe/Berlin
BEGIN:DAYLIGHT
TZOFFSETFROM:+0100
TZOFFSETTO:+0200
TZNAME:CEST
DTSTART:20250330T010000
END:DAYLIGHT
BEGIN:STANDARD
TZOFFSETFROM:+0200
TZOFFSETTO:+0100
TZNAME:CET
DTSTART:20251026T010000
END:STANDARD
BEGIN:DAYLIGHT
TZOFFSETFROM:+0100
TZOFFSETTO:+0200
TZNAME:CEST
DTSTART:20260329T010000
END:DAYLIGHT
BEGIN:STANDARD
TZOFFSETFROM:+0200
TZOFFSETTO:+0100
TZNAME:CET
DTSTART:20261025T010000
END:STANDARD
BEGIN:DAYLIGHT
TZOFFSETFROM:+0100
TZOFFSETTO:+0200
TZNAME:CEST
DTSTART:20270328T010000
END:DAYLIGHT
BEGIN:STANDARD
TZOFFSETFROM:+0200
TZOFFSETTO:+0100
TZNAME:CET
DTSTART:20271031T010000
END:STANDARD
END:VTIMEZONE
BEGIN:VEVENT
DTSTART;TZID=Europe/Berlin:20260206T150000
DTEND;TZID=Europe/Berlin:20260207T030000
DTSTAMP:20260423T080547
CREATED:20251106T081105Z
LAST-MODIFIED:20251106T081105Z
UID:10000600-1770390000-1770433200@pilsach.de
SUMMARY:Kinder- und Wirthausfasching
DESCRIPTION:
URL:https://pilsach.de/veranstaltung/kinder-und-wirthausfasching/
LOCATION:Gasthaus Schuster
END:VEVENT
BEGIN:VEVENT
DTSTART;TZID=Europe/Berlin:20260207T193000
DTEND;TZID=Europe/Berlin:20260207T233000
DTSTAMP:20260423T080547
CREATED:20251106T081238Z
LAST-MODIFIED:20251106T081238Z
UID:10000601-1770492600-1770507000@pilsach.de
SUMMARY:Jahreshauptversammlung
DESCRIPTION:
URL:https://pilsach.de/veranstaltung/jahreshauptversammlung-3/
LOCATION:Gasthaus Siegert
END:VEVENT
END:VCALENDAR