BEGIN:VCALENDAR
VERSION:2.0
PRODID:-//Gemeinde Pilsach - ECPv6.15.18//NONSGML v1.0//EN
CALSCALE:GREGORIAN
METHOD:PUBLISH
X-ORIGINAL-URL:https://pilsach.de
X-WR-CALDESC:Veranstaltungen für Gemeinde Pilsach
REFRESH-INTERVAL;VALUE=DURATION:PT1H
X-Robots-Tag:noindex
X-PUBLISHED-TTL:PT1H
BEGIN:VTIMEZONE
TZID:Europe/Berlin
BEGIN:DAYLIGHT
TZOFFSETFROM:+0100
TZOFFSETTO:+0200
TZNAME:CEST
DTSTART:20240331T010000
END:DAYLIGHT
BEGIN:STANDARD
TZOFFSETFROM:+0200
TZOFFSETTO:+0100
TZNAME:CET
DTSTART:20241027T010000
END:STANDARD
BEGIN:DAYLIGHT
TZOFFSETFROM:+0100
TZOFFSETTO:+0200
TZNAME:CEST
DTSTART:20250330T010000
END:DAYLIGHT
BEGIN:STANDARD
TZOFFSETFROM:+0200
TZOFFSETTO:+0100
TZNAME:CET
DTSTART:20251026T010000
END:STANDARD
BEGIN:DAYLIGHT
TZOFFSETFROM:+0100
TZOFFSETTO:+0200
TZNAME:CEST
DTSTART:20260329T010000
END:DAYLIGHT
BEGIN:STANDARD
TZOFFSETFROM:+0200
TZOFFSETTO:+0100
TZNAME:CET
DTSTART:20261025T010000
END:STANDARD
END:VTIMEZONE
BEGIN:VEVENT
DTSTART;VALUE=DATE:20250202
DTEND;VALUE=DATE:20250203
DTSTAMP:20260425T214816
CREATED:20250225T100803Z
LAST-MODIFIED:20250225T100842Z
UID:10000544-1738454400-1738540799@pilsach.de
SUMMARY:Weißwurstfrühstück
DESCRIPTION:09:30 Uhr
URL:https://pilsach.de/veranstaltung/weisswurtsfruehstueck/
LOCATION:Feuerwehrhaus Niederhofen
END:VEVENT
BEGIN:VEVENT
DTSTART;VALUE=DATE:20250208
DTEND;VALUE=DATE:20250209
DTSTAMP:20260425T214816
CREATED:20250225T100605Z
LAST-MODIFIED:20250225T101244Z
UID:10000543-1738972800-1739059199@pilsach.de
SUMMARY:Faschingsparty DJK SV Litzlohe
DESCRIPTION:20:00 Uhr
URL:https://pilsach.de/veranstaltung/faschingsparty/
LOCATION:Sportheim Litzlohe
END:VEVENT
BEGIN:VEVENT
DTSTART;VALUE=DATE:20250215
DTEND;VALUE=DATE:20250216
DTSTAMP:20260425T214816
CREATED:20250225T100400Z
LAST-MODIFIED:20250305T083725Z
UID:10000578-1739606400-1739638800@pilsach.de
SUMMARY:Faschingsumzug in Pfeffertshofen
DESCRIPTION:14:00 Uhr
URL:https://pilsach.de/veranstaltung/faschingsumzug-in-pfeffertshofen/2025-02-15/
LOCATION:Dorfhalle / Ort
END:VEVENT
BEGIN:VEVENT
DTSTART;VALUE=DATE:20250221
DTEND;VALUE=DATE:20250222
DTSTAMP:20260425T214816
CREATED:20250224T155749Z
LAST-MODIFIED:20250224T155749Z
UID:10000541-1740096000-1740182399@pilsach.de
SUMMARY:Kinder- und Wirtshausfasching
DESCRIPTION:15:00 Uhr
URL:https://pilsach.de/veranstaltung/kinder-und-wirtshausfasching/
LOCATION:Gasthaus Schuster
END:VEVENT
BEGIN:VEVENT
DTSTART;VALUE=DATE:20250223
DTEND;VALUE=DATE:20250224
DTSTAMP:20260425T214816
CREATED:20250305T083848Z
LAST-MODIFIED:20250305T083848Z
UID:10000579-1740268800-1740355199@pilsach.de
SUMMARY:Bundestagswahl
DESCRIPTION:
URL:https://pilsach.de/veranstaltung/bundestagswahl/
END:VEVENT
BEGIN:VEVENT
DTSTART;VALUE=DATE:20250227
DTEND;VALUE=DATE:20250228
DTSTAMP:20260425T214816
CREATED:20240110T122232Z
LAST-MODIFIED:20250224T153254Z
UID:10000476-1740614400-1740700799@pilsach.de
SUMMARY:Weiberfasching OGV Litzlohe
DESCRIPTION:19:30 Uhr
URL:https://pilsach.de/veranstaltung/weiberfasching-ogv-litzlohe/
LOCATION:Sportheim Litzlohe
END:VEVENT
END:VCALENDAR