BEGIN:VCALENDAR
VERSION:2.0
PRODID:-//Gemeinde Pilsach - ECPv6.15.18//NONSGML v1.0//EN
CALSCALE:GREGORIAN
METHOD:PUBLISH
X-ORIGINAL-URL:https://pilsach.de
X-WR-CALDESC:Veranstaltungen für Gemeinde Pilsach
REFRESH-INTERVAL;VALUE=DURATION:PT1H
X-Robots-Tag:noindex
X-PUBLISHED-TTL:PT1H
BEGIN:VTIMEZONE
TZID:Europe/Berlin
BEGIN:DAYLIGHT
TZOFFSETFROM:+0100
TZOFFSETTO:+0200
TZNAME:CEST
DTSTART:20240331T010000
END:DAYLIGHT
BEGIN:STANDARD
TZOFFSETFROM:+0200
TZOFFSETTO:+0100
TZNAME:CET
DTSTART:20241027T010000
END:STANDARD
BEGIN:DAYLIGHT
TZOFFSETFROM:+0100
TZOFFSETTO:+0200
TZNAME:CEST
DTSTART:20250330T010000
END:DAYLIGHT
BEGIN:STANDARD
TZOFFSETFROM:+0200
TZOFFSETTO:+0100
TZNAME:CET
DTSTART:20251026T010000
END:STANDARD
BEGIN:DAYLIGHT
TZOFFSETFROM:+0100
TZOFFSETTO:+0200
TZNAME:CEST
DTSTART:20260329T010000
END:DAYLIGHT
BEGIN:STANDARD
TZOFFSETFROM:+0200
TZOFFSETTO:+0100
TZNAME:CET
DTSTART:20261025T010000
END:STANDARD
END:VTIMEZONE
BEGIN:VEVENT
DTSTART;VALUE=DATE:20250304
DTEND;VALUE=DATE:20250305
DTSTAMP:20260425T201958
CREATED:20250305T084106Z
LAST-MODIFIED:20250305T084134Z
UID:10000580-1741046400-1741132799@pilsach.de
SUMMARY:Schafkopfrennen - Schützenverein Pilsach
DESCRIPTION:14:00 Uhr
URL:https://pilsach.de/veranstaltung/schafkopfrennen-5/
LOCATION:Schützenhaus Pilsach\, Germany
END:VEVENT
BEGIN:VEVENT
DTSTART;TZID=Europe/Berlin:20250305T103000
DTEND;TZID=Europe/Berlin:20250305T180000
DTSTAMP:20260425T201958
CREATED:20250305T084300Z
LAST-MODIFIED:20250305T084300Z
UID:10000581-1741170600-1741197600@pilsach.de
SUMMARY:Fischgrillen - SKK / RK Pilsach
DESCRIPTION:
URL:https://pilsach.de/veranstaltung/fischgrillen-skk-rk-pilsach/
LOCATION:Gasthaus Siegert
END:VEVENT
BEGIN:VEVENT
DTSTART;VALUE=DATE:20250307
DTEND;VALUE=DATE:20250308
DTSTAMP:20260425T201958
CREATED:20250225T102412Z
LAST-MODIFIED:20250225T102412Z
UID:10000546-1741305600-1741391999@pilsach.de
SUMMARY:Jahreshauptversammlung DJK-SV Litzlohe
DESCRIPTION:19:30 Uhr
URL:https://pilsach.de/veranstaltung/jahreshauptversammlung-djk-sv-litzlohe/
LOCATION:Sportheim Litzlohe
END:VEVENT
BEGIN:VEVENT
DTSTART;VALUE=DATE:20250308
DTEND;VALUE=DATE:20250309
DTSTAMP:20260425T201958
CREATED:20250305T084639Z
LAST-MODIFIED:20250305T084753Z
UID:10000582-1741392000-1741478399@pilsach.de
SUMMARY:Jahreshauptversammlung - FF Pilsach
DESCRIPTION:19:00 Uhr
URL:https://pilsach.de/veranstaltung/jahreshauptversammlung-ff-pilsach-2/
LOCATION:Gasthof Am Schloss
END:VEVENT
BEGIN:VEVENT
DTSTART;VALUE=DATE:20250314
DTEND;VALUE=DATE:20250315
DTSTAMP:20260425T201958
CREATED:20250305T084918Z
LAST-MODIFIED:20250305T084918Z
UID:10000583-1741910400-1741996799@pilsach.de
SUMMARY:Jahreshauptversammlung - BayernBatzis
DESCRIPTION:19:30 Uhr
URL:https://pilsach.de/veranstaltung/jahreshauptversammlung-bayernbatzis/
LOCATION:Gasthaus Schuster
END:VEVENT
BEGIN:VEVENT
DTSTART;VALUE=DATE:20250315
DTEND;VALUE=DATE:20250316
DTSTAMP:20260425T201958
CREATED:20240111T084138Z
LAST-MODIFIED:20250225T103314Z
UID:10000486-1741996800-1742083199@pilsach.de
SUMMARY:Jahreshauptversammlung OGV Pilsach
DESCRIPTION:19:30 Uhr
URL:https://pilsach.de/veranstaltung/jahreshauptversammlung-ogv-pilsach/
LOCATION:Gasthof Am Schloss
END:VEVENT
BEGIN:VEVENT
DTSTART;VALUE=DATE:20250321
DTEND;VALUE=DATE:20250322
DTSTAMP:20260425T201958
CREATED:20240111T085406Z
LAST-MODIFIED:20250225T104337Z
UID:10000492-1742515200-1742601599@pilsach.de
SUMMARY:Jahreshauptversammlung FF Laaber - mit Neuwahlen
DESCRIPTION:19:30 Uhr
URL:https://pilsach.de/veranstaltung/jahreshauptversammlung-ff-laaber/
LOCATION:FF-Haus Laaber
CATEGORIES:Veranstaltungen
END:VEVENT
BEGIN:VEVENT
DTSTART;VALUE=DATE:20250322
DTEND;VALUE=DATE:20250323
DTSTAMP:20260425T201958
CREATED:20240111T083634Z
LAST-MODIFIED:20250225T110009Z
UID:10000483-1742601600-1742687999@pilsach.de
SUMMARY:Starkbierfest FF Pilsach
DESCRIPTION:20:00 Uhr
URL:https://pilsach.de/veranstaltung/starkbierfest-ff-pilsach/
LOCATION:Gasthaus Siegert
CATEGORIES:Veranstaltungen,Verein/Organisation
END:VEVENT
BEGIN:VEVENT
DTSTART;VALUE=DATE:20250327
DTEND;VALUE=DATE:20250328
DTSTAMP:20260425T201958
CREATED:20250225T110638Z
LAST-MODIFIED:20250225T110638Z
UID:10000548-1743033600-1743119999@pilsach.de
SUMMARY:Palmbüschelbinden Pfarrei Litzlohe
DESCRIPTION:
URL:https://pilsach.de/veranstaltung/palmbueschelbinden-pfarrei-litzlohe/
LOCATION:Pfarrheim Litzlohe
CATEGORIES:Veranstaltungen
END:VEVENT
BEGIN:VEVENT
DTSTART;VALUE=DATE:20250328
DTEND;VALUE=DATE:20250329
DTSTAMP:20260425T201958
CREATED:20240111T084534Z
LAST-MODIFIED:20250225T110822Z
UID:10000488-1743120000-1743206399@pilsach.de
SUMMARY:Jahreshauptversammlung FF Litzlohe
DESCRIPTION:19:30 Uhr
URL:https://pilsach.de/veranstaltung/jahreshauptversammlung-ff-litzlohe/
LOCATION:Sportheim Litzlohe
CATEGORIES:Veranstaltungen
END:VEVENT
BEGIN:VEVENT
DTSTART;VALUE=DATE:20250330
DTEND;VALUE=DATE:20250331
DTSTAMP:20260425T201958
CREATED:20250225T111036Z
LAST-MODIFIED:20250225T111036Z
UID:10000549-1743292800-1743379199@pilsach.de
SUMMARY:Fastenessen - Pfarrei Litzlohe
DESCRIPTION:
URL:https://pilsach.de/veranstaltung/fastenessen-pfarrei-litzlohe/
LOCATION:Pfarrheim Litzlohe
CATEGORIES:Veranstaltungen
END:VEVENT
END:VCALENDAR