BEGIN:VCALENDAR
VERSION:2.0
PRODID:-//Gemeinde Pilsach - ECPv6.15.18//NONSGML v1.0//EN
CALSCALE:GREGORIAN
METHOD:PUBLISH
X-WR-CALNAME:Gemeinde Pilsach
X-ORIGINAL-URL:https://pilsach.de
X-WR-CALDESC:Veranstaltungen für Gemeinde Pilsach
REFRESH-INTERVAL;VALUE=DURATION:PT1H
X-Robots-Tag:noindex
X-PUBLISHED-TTL:PT1H
BEGIN:VTIMEZONE
TZID:Europe/Berlin
BEGIN:DAYLIGHT
TZOFFSETFROM:+0100
TZOFFSETTO:+0200
TZNAME:CEST
DTSTART:20240331T010000
END:DAYLIGHT
BEGIN:STANDARD
TZOFFSETFROM:+0200
TZOFFSETTO:+0100
TZNAME:CET
DTSTART:20241027T010000
END:STANDARD
BEGIN:DAYLIGHT
TZOFFSETFROM:+0100
TZOFFSETTO:+0200
TZNAME:CEST
DTSTART:20250330T010000
END:DAYLIGHT
BEGIN:STANDARD
TZOFFSETFROM:+0200
TZOFFSETTO:+0100
TZNAME:CET
DTSTART:20251026T010000
END:STANDARD
BEGIN:DAYLIGHT
TZOFFSETFROM:+0100
TZOFFSETTO:+0200
TZNAME:CEST
DTSTART:20260329T010000
END:DAYLIGHT
BEGIN:STANDARD
TZOFFSETFROM:+0200
TZOFFSETTO:+0100
TZNAME:CET
DTSTART:20261025T010000
END:STANDARD
END:VTIMEZONE
BEGIN:VEVENT
DTSTART;VALUE=DATE:20250401
DTEND;VALUE=DATE:20250402
DTSTAMP:20260425T184953
CREATED:20250225T111307Z
LAST-MODIFIED:20250225T111542Z
UID:10000550-1743465600-1743551999@pilsach.de
SUMMARY:Palmbüschelbinden - Pfarrei Litzlohe
DESCRIPTION:
URL:https://pilsach.de/veranstaltung/palmbueschelbinden-pfarrei-litzlohe-2/
LOCATION:Pfarrheim Litzlohe
CATEGORIES:Veranstaltungen
END:VEVENT
BEGIN:VEVENT
DTSTART;VALUE=DATE:20250405
DTEND;VALUE=DATE:20250406
DTSTAMP:20260425T184953
CREATED:20240111T090052Z
LAST-MODIFIED:20250225T111953Z
UID:10000494-1743811200-1743897599@pilsach.de
SUMMARY:RamaDama
DESCRIPTION:
URL:https://pilsach.de/veranstaltung/ramadama-2/
LOCATION:Gemeindegebiet Pilsach
CATEGORIES:Veranstaltungen
END:VEVENT
BEGIN:VEVENT
DTSTART;VALUE=DATE:20250419
DTEND;VALUE=DATE:20250420
DTSTAMP:20260425T184953
CREATED:20250225T112349Z
LAST-MODIFIED:20250225T112446Z
UID:10000551-1745020800-1745107199@pilsach.de
SUMMARY:Jahreshauptversammlung SRK Dietkirchen
DESCRIPTION:19:30 Uhr
URL:https://pilsach.de/veranstaltung/jahreshauptversammlung-srk-dietkirchen/
LOCATION:Feuerwehrhaus Dietkirchen
CATEGORIES:Veranstaltungen
END:VEVENT
BEGIN:VEVENT
DTSTART;VALUE=DATE:20250423
DTEND;VALUE=DATE:20250426
DTSTAMP:20260425T184953
CREATED:20250225T112851Z
LAST-MODIFIED:20250225T112851Z
UID:10000552-1745366400-1745625599@pilsach.de
SUMMARY:Hans-Dorfner-Fußballschule
DESCRIPTION:
URL:https://pilsach.de/veranstaltung/hans-dorfner-fussballschule-2/
LOCATION:Sportgelände Pilsach
CATEGORIES:Veranstaltungen
END:VEVENT
BEGIN:VEVENT
DTSTART;VALUE=DATE:20250427
DTEND;VALUE=DATE:20250428
DTSTAMP:20260425T184953
CREATED:20250225T113203Z
LAST-MODIFIED:20250225T113203Z
UID:10000553-1745712000-1745798399@pilsach.de
SUMMARY:Erstkommunion in Pilsach
DESCRIPTION:
URL:https://pilsach.de/veranstaltung/erstkommunion-in-pilsach/
LOCATION:Pfarrkirche Pilsach
END:VEVENT
END:VCALENDAR