BEGIN:VCALENDAR
VERSION:2.0
PRODID:-//Gemeinde Pilsach - ECPv6.15.18//NONSGML v1.0//EN
CALSCALE:GREGORIAN
METHOD:PUBLISH
X-ORIGINAL-URL:https://pilsach.de
X-WR-CALDESC:Veranstaltungen für Gemeinde Pilsach
REFRESH-INTERVAL;VALUE=DURATION:PT1H
X-Robots-Tag:noindex
X-PUBLISHED-TTL:PT1H
BEGIN:VTIMEZONE
TZID:Europe/Berlin
BEGIN:DAYLIGHT
TZOFFSETFROM:+0100
TZOFFSETTO:+0200
TZNAME:CEST
DTSTART:20240331T010000
END:DAYLIGHT
BEGIN:STANDARD
TZOFFSETFROM:+0200
TZOFFSETTO:+0100
TZNAME:CET
DTSTART:20241027T010000
END:STANDARD
BEGIN:DAYLIGHT
TZOFFSETFROM:+0100
TZOFFSETTO:+0200
TZNAME:CEST
DTSTART:20250330T010000
END:DAYLIGHT
BEGIN:STANDARD
TZOFFSETFROM:+0200
TZOFFSETTO:+0100
TZNAME:CET
DTSTART:20251026T010000
END:STANDARD
BEGIN:DAYLIGHT
TZOFFSETFROM:+0100
TZOFFSETTO:+0200
TZNAME:CEST
DTSTART:20260329T010000
END:DAYLIGHT
BEGIN:STANDARD
TZOFFSETFROM:+0200
TZOFFSETTO:+0100
TZNAME:CET
DTSTART:20261025T010000
END:STANDARD
END:VTIMEZONE
BEGIN:VEVENT
DTSTART;VALUE=DATE:20250502
DTEND;VALUE=DATE:20250503
DTSTAMP:20260425T172324
CREATED:20250225T113600Z
LAST-MODIFIED:20250225T113600Z
UID:10000554-1746144000-1746230399@pilsach.de
SUMMARY:Saisonabschlussfeier und Helferessen
DESCRIPTION:19:00 Uhr
URL:https://pilsach.de/veranstaltung/saisonabschlussfeier-und-helferessen/
LOCATION:Schützenhaus Pilsach\, Germany
CATEGORIES:Veranstaltungen
END:VEVENT
BEGIN:VEVENT
DTSTART;VALUE=DATE:20250517
DTEND;VALUE=DATE:20250518
DTSTAMP:20260425T172324
CREATED:20240111T093438Z
LAST-MODIFIED:20250225T113801Z
UID:10000499-1747440000-1747526399@pilsach.de
SUMMARY:Bergfest - Schützenverein Pilsach
DESCRIPTION:19:00 Uhr
URL:https://pilsach.de/veranstaltung/bergfest-schuetzenverein-pilsach/
LOCATION:Schützenhaus Pilsach\, Germany
CATEGORIES:Veranstaltungen
END:VEVENT
BEGIN:VEVENT
DTSTART;VALUE=DATE:20250520
DTEND;VALUE=DATE:20250521
DTSTAMP:20260425T172324
CREATED:20240111T091622Z
LAST-MODIFIED:20250226T095235Z
UID:10000496-1747699200-1747785599@pilsach.de
SUMMARY:Bittgang nach Eispertshofen
DESCRIPTION:
URL:https://pilsach.de/veranstaltung/bittgang-nach-eispertshofen/
CATEGORIES:Kirche,Veranstaltungen
END:VEVENT
BEGIN:VEVENT
DTSTART;VALUE=DATE:20250524
DTEND;VALUE=DATE:20250525
DTSTAMP:20260425T172324
CREATED:20250226T095518Z
LAST-MODIFIED:20250226T095518Z
UID:10000555-1748044800-1748131199@pilsach.de
SUMMARY:Bittgang nach Trautmannshofen
DESCRIPTION:
URL:https://pilsach.de/veranstaltung/bittgang-nach-trautmannshofen/
CATEGORIES:Kirche
END:VEVENT
BEGIN:VEVENT
DTSTART;VALUE=DATE:20250525
DTEND;VALUE=DATE:20250526
DTSTAMP:20260425T172324
CREATED:20250226T101104Z
LAST-MODIFIED:20250226T101359Z
UID:10000556-1748131200-1748217599@pilsach.de
SUMMARY:Maiandacht mit Maibowle
DESCRIPTION:18:00 Uhr
URL:https://pilsach.de/veranstaltung/maiandacht-mit-maibowle/
LOCATION:Pfarrgarten
END:VEVENT
BEGIN:VEVENT
DTSTART;VALUE=DATE:20250528
DTEND;VALUE=DATE:20250529
DTSTAMP:20260425T172324
CREATED:20250226T101651Z
LAST-MODIFIED:20250226T101803Z
UID:10000557-1748390400-1748476799@pilsach.de
SUMMARY:Kirwa-WarmUp
DESCRIPTION:19:00 Uhr
URL:https://pilsach.de/veranstaltung/kirwa-warmup/
LOCATION:Stadl – Gasthaus Siegert
END:VEVENT
BEGIN:VEVENT
DTSTART;VALUE=DATE:20250529
DTEND;VALUE=DATE:20250530
DTSTAMP:20260425T172324
CREATED:20250226T102009Z
LAST-MODIFIED:20250226T102009Z
UID:10000558-1748476800-1748563199@pilsach.de
SUMMARY:Vatertagsfeier
DESCRIPTION:14:00 Uhr
URL:https://pilsach.de/veranstaltung/vatertagsfeier/
END:VEVENT
END:VCALENDAR