BEGIN:VCALENDAR
VERSION:2.0
PRODID:-//Gemeinde Pilsach - ECPv6.15.18//NONSGML v1.0//EN
CALSCALE:GREGORIAN
METHOD:PUBLISH
X-WR-CALNAME:Gemeinde Pilsach
X-ORIGINAL-URL:https://pilsach.de
X-WR-CALDESC:Veranstaltungen für Gemeinde Pilsach
REFRESH-INTERVAL;VALUE=DURATION:PT1H
X-Robots-Tag:noindex
X-PUBLISHED-TTL:PT1H
BEGIN:VTIMEZONE
TZID:Europe/Berlin
BEGIN:DAYLIGHT
TZOFFSETFROM:+0100
TZOFFSETTO:+0200
TZNAME:CEST
DTSTART:20240331T010000
END:DAYLIGHT
BEGIN:STANDARD
TZOFFSETFROM:+0200
TZOFFSETTO:+0100
TZNAME:CET
DTSTART:20241027T010000
END:STANDARD
BEGIN:DAYLIGHT
TZOFFSETFROM:+0100
TZOFFSETTO:+0200
TZNAME:CEST
DTSTART:20250330T010000
END:DAYLIGHT
BEGIN:STANDARD
TZOFFSETFROM:+0200
TZOFFSETTO:+0100
TZNAME:CET
DTSTART:20251026T010000
END:STANDARD
BEGIN:DAYLIGHT
TZOFFSETFROM:+0100
TZOFFSETTO:+0200
TZNAME:CEST
DTSTART:20260329T010000
END:DAYLIGHT
BEGIN:STANDARD
TZOFFSETFROM:+0200
TZOFFSETTO:+0100
TZNAME:CET
DTSTART:20261025T010000
END:STANDARD
END:VTIMEZONE
BEGIN:VEVENT
DTSTART;VALUE=DATE:20250705
DTEND;VALUE=DATE:20250707
DTSTAMP:20260425T135627
CREATED:20230508T133616Z
LAST-MODIFIED:20250226T110210Z
UID:10000429-1751673600-1751846399@pilsach.de
SUMMARY:Vereinsausflug - OGV Pilsach
DESCRIPTION:
URL:https://pilsach.de/veranstaltung/vereinsausflug-ogv-pilsach/
CATEGORIES:Veranstaltungen
END:VEVENT
BEGIN:VEVENT
DTSTART;VALUE=DATE:20250707
DTEND;VALUE=DATE:20250708
DTSTAMP:20260425T135627
CREATED:20231026T173730Z
LAST-MODIFIED:20250226T110534Z
UID:10000463-1751846400-1751932799@pilsach.de
SUMMARY:Jahreshauptversammlung - Förderverein der Grundschule Pilsach e.V.
DESCRIPTION:19:00 Uhr
URL:https://pilsach.de/veranstaltung/jahreshauptversammlung-foerderverein-der-grundschule-pilsach-e-v/
LOCATION:Aula – Grundschule Pilsach
END:VEVENT
BEGIN:VEVENT
DTSTART;VALUE=DATE:20250712
DTEND;VALUE=DATE:20250713
DTSTAMP:20260425T135627
CREATED:20250226T110842Z
LAST-MODIFIED:20250226T110854Z
UID:10000560-1752278400-1752364799@pilsach.de
SUMMARY:Sommerserenade - Männerchor Pilsach
DESCRIPTION:19:30 Uhr
URL:https://pilsach.de/veranstaltung/sommerserenade-maennerchor-pilsach/
LOCATION:Schulhof der Grundschule Pilsach
END:VEVENT
BEGIN:VEVENT
DTSTART;VALUE=DATE:20250718
DTEND;VALUE=DATE:20250721
DTSTAMP:20260425T135627
CREATED:20230508T133814Z
LAST-MODIFIED:20250226T111317Z
UID:10000430-1752796800-1753055999@pilsach.de
SUMMARY:Grottenfest Laaber
DESCRIPTION:
URL:https://pilsach.de/veranstaltung/grottenfest-laaber/
LOCATION:Grotte Laaber
CATEGORIES:Verein/Organisation
END:VEVENT
BEGIN:VEVENT
DTSTART;VALUE=DATE:20250720
DTEND;VALUE=DATE:20250721
DTSTAMP:20260425T135627
CREATED:20240111T101550Z
LAST-MODIFIED:20250226T112323Z
UID:10000508-1752969600-1753055999@pilsach.de
SUMMARY:Pfarrfest Litzlohe
DESCRIPTION:
URL:https://pilsach.de/veranstaltung/pfarrfest-litzlohe/
LOCATION:Pfarrgarten
CATEGORIES:Kirche
END:VEVENT
BEGIN:VEVENT
DTSTART;VALUE=DATE:20250727
DTEND;VALUE=DATE:20250728
DTSTAMP:20260425T135627
CREATED:20230508T133421Z
LAST-MODIFIED:20250226T112456Z
UID:10000428-1753574400-1753660799@pilsach.de
SUMMARY:Dorffest Pilsach
DESCRIPTION:
URL:https://pilsach.de/veranstaltung/dorffest-875-jahre-gemeinde-pilsach/
CATEGORIES:Gemeinde
END:VEVENT
END:VCALENDAR