BEGIN:VCALENDAR
VERSION:2.0
PRODID:-//Gemeinde Pilsach - ECPv6.15.18//NONSGML v1.0//EN
CALSCALE:GREGORIAN
METHOD:PUBLISH
X-WR-CALNAME:Gemeinde Pilsach
X-ORIGINAL-URL:https://pilsach.de
X-WR-CALDESC:Veranstaltungen für Gemeinde Pilsach
REFRESH-INTERVAL;VALUE=DURATION:PT1H
X-Robots-Tag:noindex
X-PUBLISHED-TTL:PT1H
BEGIN:VTIMEZONE
TZID:Europe/Berlin
BEGIN:DAYLIGHT
TZOFFSETFROM:+0100
TZOFFSETTO:+0200
TZNAME:CEST
DTSTART:20250330T010000
END:DAYLIGHT
BEGIN:STANDARD
TZOFFSETFROM:+0200
TZOFFSETTO:+0100
TZNAME:CET
DTSTART:20251026T010000
END:STANDARD
BEGIN:DAYLIGHT
TZOFFSETFROM:+0100
TZOFFSETTO:+0200
TZNAME:CEST
DTSTART:20260329T010000
END:DAYLIGHT
BEGIN:STANDARD
TZOFFSETFROM:+0200
TZOFFSETTO:+0100
TZNAME:CET
DTSTART:20261025T010000
END:STANDARD
BEGIN:DAYLIGHT
TZOFFSETFROM:+0100
TZOFFSETTO:+0200
TZNAME:CEST
DTSTART:20270328T010000
END:DAYLIGHT
BEGIN:STANDARD
TZOFFSETFROM:+0200
TZOFFSETTO:+0100
TZNAME:CET
DTSTART:20271031T010000
END:STANDARD
END:VTIMEZONE
BEGIN:VEVENT
DTSTART;TZID=Europe/Berlin:20260306T193000
DTEND;TZID=Europe/Berlin:20260306T230000
DTSTAMP:20260422T145728
CREATED:20251106T082650Z
LAST-MODIFIED:20251106T082650Z
UID:10000609-1772825400-1772838000@pilsach.de
SUMMARY:Jahreshauptversammlung
DESCRIPTION:
URL:https://pilsach.de/veranstaltung/jahreshauptversammlung-7/
LOCATION:Sportheim Litzlohe
END:VEVENT
BEGIN:VEVENT
DTSTART;TZID=Europe/Berlin:20260307T193000
DTEND;TZID=Europe/Berlin:20260308T030000
DTSTAMP:20260422T145728
CREATED:20251106T082757Z
LAST-MODIFIED:20251106T082757Z
UID:10000610-1772911800-1772938800@pilsach.de
SUMMARY:Starkbierfest
DESCRIPTION:
URL:https://pilsach.de/veranstaltung/starkbierfest/
LOCATION:Gasthaus Siegert
END:VEVENT
BEGIN:VEVENT
DTSTART;VALUE=DATE:20260308
DTEND;VALUE=DATE:20260309
DTSTAMP:20260422T145728
CREATED:20250304T100658Z
LAST-MODIFIED:20250304T100658Z
UID:10000576-1772928000-1773014399@pilsach.de
SUMMARY:Kommunalwahl 2026
DESCRIPTION:
URL:https://pilsach.de/veranstaltung/kommunalwahl-2026/
END:VEVENT
BEGIN:VEVENT
DTSTART;TZID=Europe/Berlin:20260308T110000
DTEND;TZID=Europe/Berlin:20260308T140000
DTSTAMP:20260422T145728
CREATED:20251106T082853Z
LAST-MODIFIED:20251106T082853Z
UID:10000611-1772967600-1772978400@pilsach.de
SUMMARY:Fastenessen
DESCRIPTION:
URL:https://pilsach.de/veranstaltung/fastenessen/
LOCATION:Pfarrheim Litzlohe
END:VEVENT
BEGIN:VEVENT
DTSTART;VALUE=DATE:20260312
DTEND;VALUE=DATE:20260313
DTSTAMP:20260422T145728
CREATED:20251106T083009Z
LAST-MODIFIED:20251106T083009Z
UID:10000612-1773273600-1773359999@pilsach.de
SUMMARY:Palmbüschel binden
DESCRIPTION:
URL:https://pilsach.de/veranstaltung/palmbueschel-binden/
LOCATION:Pfarrheim Litzlohe
END:VEVENT
BEGIN:VEVENT
DTSTART;TZID=Europe/Berlin:20260313T000000
DTEND;TZID=Europe/Berlin:20260313T000000
DTSTAMP:20260422T145728
CREATED:20251106T083417Z
LAST-MODIFIED:20251106T083417Z
UID:10000614-1773360000-1773360000@pilsach.de
SUMMARY:Jahreshauptversammlung
DESCRIPTION:
URL:https://pilsach.de/veranstaltung/jahreshauptversammlung-9/
LOCATION:Gasthaus Schuster
END:VEVENT
BEGIN:VEVENT
DTSTART;TZID=Europe/Berlin:20260313T193000
DTEND;TZID=Europe/Berlin:20260313T230000
DTSTAMP:20260422T145728
CREATED:20251106T083248Z
LAST-MODIFIED:20251106T083248Z
UID:10000613-1773430200-1773442800@pilsach.de
SUMMARY:Jahreshauptversammlung
DESCRIPTION:
URL:https://pilsach.de/veranstaltung/jahreshauptversammlung-8/
LOCATION:Sportheim Litzlohe
END:VEVENT
BEGIN:VEVENT
DTSTART;VALUE=DATE:20260317
DTEND;VALUE=DATE:20260318
DTSTAMP:20260422T145729
CREATED:20251106T084645Z
LAST-MODIFIED:20251106T084645Z
UID:10000615-1773705600-1773791999@pilsach.de
SUMMARY:Palmbüschel binden
DESCRIPTION:
URL:https://pilsach.de/veranstaltung/palmbueschel-binden-2/
LOCATION:Pfarrheim Litzlohe
END:VEVENT
BEGIN:VEVENT
DTSTART;TZID=Europe/Berlin:20260328T000000
DTEND;TZID=Europe/Berlin:20260328T000000
DTSTAMP:20260422T145729
CREATED:20251106T084744Z
LAST-MODIFIED:20251106T084744Z
UID:10000616-1774656000-1774656000@pilsach.de
SUMMARY:Jahreshauptversammlung
DESCRIPTION:
URL:https://pilsach.de/veranstaltung/jahreshauptversammlung-10/
LOCATION:Feuerwehrhaus Laaber\, Germany
END:VEVENT
END:VCALENDAR