BEGIN:VCALENDAR
VERSION:2.0
PRODID:-//Gemeinde Pilsach - ECPv6.15.18//NONSGML v1.0//EN
CALSCALE:GREGORIAN
METHOD:PUBLISH
X-ORIGINAL-URL:https://pilsach.de
X-WR-CALDESC:Veranstaltungen für Gemeinde Pilsach
REFRESH-INTERVAL;VALUE=DURATION:PT1H
X-Robots-Tag:noindex
X-PUBLISHED-TTL:PT1H
BEGIN:VTIMEZONE
TZID:Europe/Berlin
BEGIN:DAYLIGHT
TZOFFSETFROM:+0100
TZOFFSETTO:+0200
TZNAME:CEST
DTSTART:20250330T010000
END:DAYLIGHT
BEGIN:STANDARD
TZOFFSETFROM:+0200
TZOFFSETTO:+0100
TZNAME:CET
DTSTART:20251026T010000
END:STANDARD
BEGIN:DAYLIGHT
TZOFFSETFROM:+0100
TZOFFSETTO:+0200
TZNAME:CEST
DTSTART:20260329T010000
END:DAYLIGHT
BEGIN:STANDARD
TZOFFSETFROM:+0200
TZOFFSETTO:+0100
TZNAME:CET
DTSTART:20261025T010000
END:STANDARD
BEGIN:DAYLIGHT
TZOFFSETFROM:+0100
TZOFFSETTO:+0200
TZNAME:CEST
DTSTART:20270328T010000
END:DAYLIGHT
BEGIN:STANDARD
TZOFFSETFROM:+0200
TZOFFSETTO:+0100
TZNAME:CET
DTSTART:20271031T010000
END:STANDARD
END:VTIMEZONE
BEGIN:VEVENT
DTSTART;VALUE=DATE:20260505
DTEND;VALUE=DATE:20260506
DTSTAMP:20260422T144856
CREATED:20251106T110213Z
LAST-MODIFIED:20251106T110213Z
UID:10000622-1777939200-1778025599@pilsach.de
SUMMARY:Bittgang  nach Eispertshofen
DESCRIPTION:
URL:https://pilsach.de/veranstaltung/bittgang-nach-eispertshofen-2/
END:VEVENT
BEGIN:VEVENT
DTSTART;VALUE=DATE:20260509
DTEND;VALUE=DATE:20260510
DTSTAMP:20260422T144856
CREATED:20251106T110626Z
LAST-MODIFIED:20251106T110626Z
UID:10000623-1778284800-1778371199@pilsach.de
SUMMARY:Bittgang nach Trautmannshofen
DESCRIPTION:
URL:https://pilsach.de/veranstaltung/bittgang-nach-trautmannshofen-2/
END:VEVENT
BEGIN:VEVENT
DTSTART;TZID=Europe/Berlin:20260509T190000
DTEND;TZID=Europe/Berlin:20260510T030000
DTSTAMP:20260422T144856
CREATED:20251106T110909Z
LAST-MODIFIED:20251106T110909Z
UID:10000624-1778353200-1778382000@pilsach.de
SUMMARY:Bergfest
DESCRIPTION:
URL:https://pilsach.de/veranstaltung/bergfest/
LOCATION:Schützenhaus Pilsach\, Germany
END:VEVENT
BEGIN:VEVENT
DTSTART;VALUE=DATE:20260510
DTEND;VALUE=DATE:20260511
DTSTAMP:20260422T144856
CREATED:20251106T111011Z
LAST-MODIFIED:20251106T111011Z
UID:10000625-1778371200-1778457599@pilsach.de
SUMMARY:Ausweichtermin Gewerbeschau
DESCRIPTION:
URL:https://pilsach.de/veranstaltung/ausweichtermin-gewerbeschau/
LOCATION:Sportgelände Pilsach
END:VEVENT
BEGIN:VEVENT
DTSTART;TZID=Europe/Berlin:20260513T190000
DTEND;TZID=Europe/Berlin:20260514T030000
DTSTAMP:20260422T144856
CREATED:20251106T111227Z
LAST-MODIFIED:20251106T111227Z
UID:10000626-1778698800-1778727600@pilsach.de
SUMMARY:Kirwa WarmUp
DESCRIPTION:
URL:https://pilsach.de/veranstaltung/kirwa-warmup-2/
LOCATION:Gasthaus Siegert
END:VEVENT
BEGIN:VEVENT
DTSTART;TZID=Europe/Berlin:20260514T140000
DTEND;TZID=Europe/Berlin:20260514T230000
DTSTAMP:20260422T144856
CREATED:20251106T111325Z
LAST-MODIFIED:20251106T111325Z
UID:10000627-1778767200-1778799600@pilsach.de
SUMMARY:Vatertagsfest
DESCRIPTION:
URL:https://pilsach.de/veranstaltung/vatertagsfest/
LOCATION:Dorfhalle Pfeffertshofen\, Germany
END:VEVENT
BEGIN:VEVENT
DTSTART;TZID=Europe/Berlin:20260514T153000
DTEND;TZID=Europe/Berlin:20260514T230000
DTSTAMP:20260422T144856
CREATED:20251106T111626Z
LAST-MODIFIED:20251106T111626Z
UID:10000628-1778772600-1778799600@pilsach.de
SUMMARY:Vatertagsfest
DESCRIPTION:
URL:https://pilsach.de/veranstaltung/vatertagsfest-2/
LOCATION:Bistro Niederhofen
END:VEVENT
BEGIN:VEVENT
DTSTART;TZID=Europe/Berlin:20260517T105000
DTEND;TZID=Europe/Berlin:20260517T105000
DTSTAMP:20260422T144856
CREATED:20260320T132845Z
LAST-MODIFIED:20260320T132854Z
UID:10000674-1779015000-1779015000@pilsach.de
SUMMARY:Zweitakter-Treffen Pilsach
DESCRIPTION:
URL:https://pilsach.de/veranstaltung/zweitakter-treffen-pilsach/
LOCATION:Sportgelände Pilsach
END:VEVENT
BEGIN:VEVENT
DTSTART;VALUE=DATE:20260523
DTEND;VALUE=DATE:20260524
DTSTAMP:20260422T144856
CREATED:20251106T111924Z
LAST-MODIFIED:20251106T111924Z
UID:10000629-1779494400-1779580799@pilsach.de
SUMMARY:Firmung
DESCRIPTION:
URL:https://pilsach.de/veranstaltung/firmung/
END:VEVENT
BEGIN:VEVENT
DTSTART;VALUE=DATE:20260531
DTEND;VALUE=DATE:20260601
DTSTAMP:20260422T144856
CREATED:20251106T112207Z
LAST-MODIFIED:20251106T112207Z
UID:10000630-1780185600-1780271999@pilsach.de
SUMMARY:Maiandacht mit anschließender Maibowle
DESCRIPTION:
URL:https://pilsach.de/veranstaltung/maiandacht-mit-anschliessender-maibowle/
LOCATION:Pfarrgarten
END:VEVENT
END:VCALENDAR