BEGIN:VCALENDAR
VERSION:2.0
PRODID:-//Gemeinde Pilsach - ECPv6.15.18//NONSGML v1.0//EN
CALSCALE:GREGORIAN
METHOD:PUBLISH
X-ORIGINAL-URL:https://pilsach.de
X-WR-CALDESC:Veranstaltungen für Gemeinde Pilsach
REFRESH-INTERVAL;VALUE=DURATION:PT1H
X-Robots-Tag:noindex
X-PUBLISHED-TTL:PT1H
BEGIN:VTIMEZONE
TZID:Europe/Berlin
BEGIN:DAYLIGHT
TZOFFSETFROM:+0100
TZOFFSETTO:+0200
TZNAME:CEST
DTSTART:20250330T010000
END:DAYLIGHT
BEGIN:STANDARD
TZOFFSETFROM:+0200
TZOFFSETTO:+0100
TZNAME:CET
DTSTART:20251026T010000
END:STANDARD
BEGIN:DAYLIGHT
TZOFFSETFROM:+0100
TZOFFSETTO:+0200
TZNAME:CEST
DTSTART:20260329T010000
END:DAYLIGHT
BEGIN:STANDARD
TZOFFSETFROM:+0200
TZOFFSETTO:+0100
TZNAME:CET
DTSTART:20261025T010000
END:STANDARD
BEGIN:DAYLIGHT
TZOFFSETFROM:+0100
TZOFFSETTO:+0200
TZNAME:CEST
DTSTART:20270328T010000
END:DAYLIGHT
BEGIN:STANDARD
TZOFFSETFROM:+0200
TZOFFSETTO:+0100
TZNAME:CET
DTSTART:20271031T010000
END:STANDARD
END:VTIMEZONE
BEGIN:VEVENT
DTSTART;VALUE=DATE:20260604
DTEND;VALUE=DATE:20260605
DTSTAMP:20260422T162143
CREATED:20251106T112350Z
LAST-MODIFIED:20251106T112350Z
UID:10000631-1780531200-1780617599@pilsach.de
SUMMARY:Grillfest
DESCRIPTION:
URL:https://pilsach.de/veranstaltung/grillfest/
LOCATION:Feuerwehrhaus Pilsach\, Germany
END:VEVENT
BEGIN:VEVENT
DTSTART;VALUE=DATE:20260605
DTEND;VALUE=DATE:20260608
DTSTAMP:20260422T162143
CREATED:20251106T112547Z
LAST-MODIFIED:20251106T112547Z
UID:10000632-1780617600-1780876799@pilsach.de
SUMMARY:Pfingstturnier
DESCRIPTION:
URL:https://pilsach.de/veranstaltung/pfingstturnier/
LOCATION:Sportplatz Litzlohe
END:VEVENT
BEGIN:VEVENT
DTSTART;TZID=Europe/Berlin:20260613T190000
DTEND;TZID=Europe/Berlin:20260614T030000
DTSTAMP:20260422T162143
CREATED:20251106T112917Z
LAST-MODIFIED:20251106T112917Z
UID:10000633-1781377200-1781406000@pilsach.de
SUMMARY:Saisonabschlussfeier & Helferessen
DESCRIPTION:
URL:https://pilsach.de/veranstaltung/saisonabschlussfeier-helferessen-2/
LOCATION:Schützenhaus Pilsach\, Germany
END:VEVENT
BEGIN:VEVENT
DTSTART;TZID=Europe/Berlin:20260619T190000
DTEND;TZID=Europe/Berlin:20260620T030000
DTSTAMP:20260422T162143
CREATED:20251106T113548Z
LAST-MODIFIED:20251106T113548Z
UID:10000634-1781895600-1781924400@pilsach.de
SUMMARY:Sonnwendfeier
DESCRIPTION:Ersatztermin bei schlechter Witterung: 26.06.2026
URL:https://pilsach.de/veranstaltung/sonnwendfeier/
LOCATION:Am Steingrün
END:VEVENT
BEGIN:VEVENT
DTSTART;VALUE=DATE:20260620
DTEND;VALUE=DATE:20260623
DTSTAMP:20260422T162143
CREATED:20251106T113657Z
LAST-MODIFIED:20251106T113657Z
UID:10000635-1781913600-1782172799@pilsach.de
SUMMARY:Kirwa Pfeffertshofen
DESCRIPTION:
URL:https://pilsach.de/veranstaltung/kirwa-pfeffertshofen-2/
LOCATION:Dorfhalle Pfeffertshofen\, Germany
END:VEVENT
BEGIN:VEVENT
DTSTART;TZID=Europe/Berlin:20260626T180000
DTEND;TZID=Europe/Berlin:20260627T030000
DTSTAMP:20260422T162143
CREATED:20251106T113902Z
LAST-MODIFIED:20251106T113902Z
UID:10000636-1782496800-1782529200@pilsach.de
SUMMARY:Vorkirwa Pilsach
DESCRIPTION:
URL:https://pilsach.de/veranstaltung/vorkirwa-pilsach/
LOCATION:Gasthaus Schuster
END:VEVENT
BEGIN:VEVENT
DTSTART;VALUE=DATE:20260627
DTEND;VALUE=DATE:20260630
DTSTAMP:20260422T162143
CREATED:20251106T115038Z
LAST-MODIFIED:20251106T115038Z
UID:10000637-1782518400-1782777599@pilsach.de
SUMMARY:Kirwa Pilsach
DESCRIPTION:
URL:https://pilsach.de/veranstaltung/kirwa-pilsach-3/
LOCATION:Gasthaus Siegert
END:VEVENT
END:VCALENDAR