BEGIN:VCALENDAR
VERSION:2.0
PRODID:-//Gemeinde Pilsach - ECPv6.15.18//NONSGML v1.0//EN
CALSCALE:GREGORIAN
METHOD:PUBLISH
X-WR-CALNAME:Gemeinde Pilsach
X-ORIGINAL-URL:https://pilsach.de
X-WR-CALDESC:Veranstaltungen für Gemeinde Pilsach
REFRESH-INTERVAL;VALUE=DURATION:PT1H
X-Robots-Tag:noindex
X-PUBLISHED-TTL:PT1H
BEGIN:VTIMEZONE
TZID:Europe/Berlin
BEGIN:DAYLIGHT
TZOFFSETFROM:+0100
TZOFFSETTO:+0200
TZNAME:CEST
DTSTART:20230326T010000
END:DAYLIGHT
BEGIN:STANDARD
TZOFFSETFROM:+0200
TZOFFSETTO:+0100
TZNAME:CET
DTSTART:20231029T010000
END:STANDARD
BEGIN:DAYLIGHT
TZOFFSETFROM:+0100
TZOFFSETTO:+0200
TZNAME:CEST
DTSTART:20240331T010000
END:DAYLIGHT
BEGIN:STANDARD
TZOFFSETFROM:+0200
TZOFFSETTO:+0100
TZNAME:CET
DTSTART:20241027T010000
END:STANDARD
BEGIN:DAYLIGHT
TZOFFSETFROM:+0100
TZOFFSETTO:+0200
TZNAME:CEST
DTSTART:20250330T010000
END:DAYLIGHT
BEGIN:STANDARD
TZOFFSETFROM:+0200
TZOFFSETTO:+0100
TZNAME:CET
DTSTART:20251026T010000
END:STANDARD
BEGIN:DAYLIGHT
TZOFFSETFROM:+0100
TZOFFSETTO:+0200
TZNAME:CEST
DTSTART:20260329T010000
END:DAYLIGHT
BEGIN:STANDARD
TZOFFSETFROM:+0200
TZOFFSETTO:+0100
TZNAME:CET
DTSTART:20261025T010000
END:STANDARD
BEGIN:DAYLIGHT
TZOFFSETFROM:+0100
TZOFFSETTO:+0200
TZNAME:CEST
DTSTART:20270328T010000
END:DAYLIGHT
BEGIN:STANDARD
TZOFFSETFROM:+0200
TZOFFSETTO:+0100
TZNAME:CET
DTSTART:20271031T010000
END:STANDARD
END:VTIMEZONE
BEGIN:VEVENT
DTSTART;TZID=Europe/Berlin:20260109T190000
DTEND;TZID=Europe/Berlin:20260109T230000
DTSTAMP:20260420T113959
CREATED:20251106T073007Z
LAST-MODIFIED:20251106T073007Z
UID:10000590-1767985200-1767999600@pilsach.de
SUMMARY:Jahreshauptversammlung
DESCRIPTION:
URL:https://pilsach.de/veranstaltung/jahreshauptversammlung/
LOCATION:Bistro Niederhofen
END:VEVENT
BEGIN:VEVENT
DTSTART;VALUE=DATE:20260102
DTEND;VALUE=DATE:20260103
DTSTAMP:20260420T113959
CREATED:20240110T104839Z
LAST-MODIFIED:20250304T091201Z
UID:10000464-1767312000-1767398399@pilsach.de
SUMMARY:Christbaumversteigerung - FF Dietkirchen
DESCRIPTION:19:00 Uhr
URL:https://pilsach.de/veranstaltung/christbaumversteigerung-srk-dietkirchen/
LOCATION:Bistro Niederhofen
CATEGORIES:Verein/Organisation
END:VEVENT
BEGIN:VEVENT
DTSTART;VALUE=DATE:20240222
DTEND;VALUE=DATE:20240223
DTSTAMP:20260420T113959
CREATED:20240111T083045Z
LAST-MODIFIED:20240111T083045Z
UID:10000481-1708560000-1708646399@pilsach.de
SUMMARY:Jahreshauptversammlung OGV Laaber-Dietkirchen
DESCRIPTION:19:30 Uhr
URL:https://pilsach.de/veranstaltung/jahreshauptversammlung-ogv-laaber-dietkirchen/
LOCATION:Bistro Niederhofen
CATEGORIES:Verein/Organisation
END:VEVENT
END:VCALENDAR