BEGIN:VCALENDAR
VERSION:2.0
PRODID:-//Gemeinde Pilsach - ECPv6.15.18//NONSGML v1.0//EN
CALSCALE:GREGORIAN
METHOD:PUBLISH
X-WR-CALNAME:Gemeinde Pilsach
X-ORIGINAL-URL:https://pilsach.de
X-WR-CALDESC:Veranstaltungen für Gemeinde Pilsach
REFRESH-INTERVAL;VALUE=DURATION:PT1H
X-Robots-Tag:noindex
X-PUBLISHED-TTL:PT1H
BEGIN:VTIMEZONE
TZID:Europe/Berlin
BEGIN:DAYLIGHT
TZOFFSETFROM:+0100
TZOFFSETTO:+0200
TZNAME:CEST
DTSTART:20220327T010000
END:DAYLIGHT
BEGIN:STANDARD
TZOFFSETFROM:+0200
TZOFFSETTO:+0100
TZNAME:CET
DTSTART:20221030T010000
END:STANDARD
BEGIN:DAYLIGHT
TZOFFSETFROM:+0100
TZOFFSETTO:+0200
TZNAME:CEST
DTSTART:20230326T010000
END:DAYLIGHT
BEGIN:STANDARD
TZOFFSETFROM:+0200
TZOFFSETTO:+0100
TZNAME:CET
DTSTART:20231029T010000
END:STANDARD
BEGIN:DAYLIGHT
TZOFFSETFROM:+0100
TZOFFSETTO:+0200
TZNAME:CEST
DTSTART:20240331T010000
END:DAYLIGHT
BEGIN:STANDARD
TZOFFSETFROM:+0200
TZOFFSETTO:+0100
TZNAME:CET
DTSTART:20241027T010000
END:STANDARD
BEGIN:DAYLIGHT
TZOFFSETFROM:+0100
TZOFFSETTO:+0200
TZNAME:CEST
DTSTART:20250330T010000
END:DAYLIGHT
BEGIN:STANDARD
TZOFFSETFROM:+0200
TZOFFSETTO:+0100
TZNAME:CET
DTSTART:20251026T010000
END:STANDARD
BEGIN:DAYLIGHT
TZOFFSETFROM:+0100
TZOFFSETTO:+0200
TZNAME:CEST
DTSTART:20260329T010000
END:DAYLIGHT
BEGIN:STANDARD
TZOFFSETFROM:+0200
TZOFFSETTO:+0100
TZNAME:CET
DTSTART:20261025T010000
END:STANDARD
BEGIN:DAYLIGHT
TZOFFSETFROM:+0100
TZOFFSETTO:+0200
TZNAME:CEST
DTSTART:20270328T010000
END:DAYLIGHT
BEGIN:STANDARD
TZOFFSETFROM:+0200
TZOFFSETTO:+0100
TZNAME:CET
DTSTART:20271031T010000
END:STANDARD
END:VTIMEZONE
BEGIN:VEVENT
DTSTART;TZID=Europe/Berlin:20260328T000000
DTEND;TZID=Europe/Berlin:20260328T000000
DTSTAMP:20260420T114009
CREATED:20251106T084744Z
LAST-MODIFIED:20251106T084744Z
UID:10000616-1774656000-1774656000@pilsach.de
SUMMARY:Jahreshauptversammlung
DESCRIPTION:
URL:https://pilsach.de/veranstaltung/jahreshauptversammlung-10/
LOCATION:Feuerwehrhaus Laaber\, Germany
END:VEVENT
BEGIN:VEVENT
DTSTART;TZID=Europe/Berlin:20260124T200000
DTEND;TZID=Europe/Berlin:20260125T023000
DTSTAMP:20260420T114009
CREATED:20251106T075532Z
LAST-MODIFIED:20251106T075532Z
UID:10000596-1769284800-1769308200@pilsach.de
SUMMARY:Faschingsball
DESCRIPTION:
URL:https://pilsach.de/veranstaltung/faschingsball/
LOCATION:Feuerwehrhaus Laaber\, Germany
END:VEVENT
BEGIN:VEVENT
DTSTART;VALUE=DATE:20251108
DTEND;VALUE=DATE:20251109
DTSTAMP:20260420T114009
CREATED:20230509T080219Z
LAST-MODIFIED:20250227T111322Z
UID:10000446-1762560000-1762646399@pilsach.de
SUMMARY:Weinfest - FF Laaber
DESCRIPTION:19:30 Uhr
URL:https://pilsach.de/veranstaltung/weinfest/
LOCATION:Feuerwehrhaus Laaber\, Germany
CATEGORIES:Verein/Organisation
END:VEVENT
BEGIN:VEVENT
DTSTART;VALUE=DATE:20231028
DTEND;VALUE=DATE:20231029
DTSTAMP:20260420T114009
CREATED:20230509T075312Z
LAST-MODIFIED:20230509T075521Z
UID:10000443-1698451200-1698537599@pilsach.de
SUMMARY:Schafkopfrennen
DESCRIPTION:19:30 Uhr
URL:https://pilsach.de/veranstaltung/schafkopfrennen/
LOCATION:Feuerwehrhaus Laaber\, Germany
CATEGORIES:Verein/Organisation
END:VEVENT
BEGIN:VEVENT
DTSTART;TZID=Europe/Berlin:20230415T080000
DTEND;TZID=Europe/Berlin:20230415T170000
DTSTAMP:20260420T114009
CREATED:20230323T150513Z
LAST-MODIFIED:20230323T150513Z
UID:10000411-1681545600-1681578000@pilsach.de
SUMMARY:Arbeitsdienst FF Laaber
DESCRIPTION:
URL:https://pilsach.de/veranstaltung/arbeitsdienst-ff-laaber/
LOCATION:Feuerwehrhaus Laaber\, Germany
CATEGORIES:Verein/Organisation
END:VEVENT
END:VCALENDAR