BEGIN:VCALENDAR
VERSION:2.0
PRODID:-//Gemeinde Pilsach - ECPv6.15.18//NONSGML v1.0//EN
CALSCALE:GREGORIAN
METHOD:PUBLISH
X-WR-CALNAME:Gemeinde Pilsach
X-ORIGINAL-URL:https://pilsach.de
X-WR-CALDESC:Veranstaltungen für Gemeinde Pilsach
REFRESH-INTERVAL;VALUE=DURATION:PT1H
X-Robots-Tag:noindex
X-PUBLISHED-TTL:PT1H
BEGIN:VTIMEZONE
TZID:Europe/Berlin
BEGIN:DAYLIGHT
TZOFFSETFROM:+0100
TZOFFSETTO:+0200
TZNAME:CEST
DTSTART:20220327T010000
END:DAYLIGHT
BEGIN:STANDARD
TZOFFSETFROM:+0200
TZOFFSETTO:+0100
TZNAME:CET
DTSTART:20221030T010000
END:STANDARD
BEGIN:DAYLIGHT
TZOFFSETFROM:+0100
TZOFFSETTO:+0200
TZNAME:CEST
DTSTART:20230326T010000
END:DAYLIGHT
BEGIN:STANDARD
TZOFFSETFROM:+0200
TZOFFSETTO:+0100
TZNAME:CET
DTSTART:20231029T010000
END:STANDARD
BEGIN:DAYLIGHT
TZOFFSETFROM:+0100
TZOFFSETTO:+0200
TZNAME:CEST
DTSTART:20240331T010000
END:DAYLIGHT
BEGIN:STANDARD
TZOFFSETFROM:+0200
TZOFFSETTO:+0100
TZNAME:CET
DTSTART:20241027T010000
END:STANDARD
BEGIN:DAYLIGHT
TZOFFSETFROM:+0100
TZOFFSETTO:+0200
TZNAME:CEST
DTSTART:20250330T010000
END:DAYLIGHT
BEGIN:STANDARD
TZOFFSETFROM:+0200
TZOFFSETTO:+0100
TZNAME:CET
DTSTART:20251026T010000
END:STANDARD
BEGIN:DAYLIGHT
TZOFFSETFROM:+0100
TZOFFSETTO:+0200
TZNAME:CEST
DTSTART:20260329T010000
END:DAYLIGHT
BEGIN:STANDARD
TZOFFSETFROM:+0200
TZOFFSETTO:+0100
TZNAME:CET
DTSTART:20261025T010000
END:STANDARD
BEGIN:DAYLIGHT
TZOFFSETFROM:+0100
TZOFFSETTO:+0200
TZNAME:CEST
DTSTART:20270328T010000
END:DAYLIGHT
BEGIN:STANDARD
TZOFFSETFROM:+0200
TZOFFSETTO:+0100
TZNAME:CET
DTSTART:20271031T010000
END:STANDARD
END:VTIMEZONE
BEGIN:VEVENT
DTSTART;TZID=Europe/Berlin:20260228T193000
DTEND;TZID=Europe/Berlin:20260228T230000
DTSTAMP:20260423T093206
CREATED:20251106T082336Z
LAST-MODIFIED:20251106T082336Z
UID:10000608-1772307000-1772319600@pilsach.de
SUMMARY:Jahreshauptversammlung
DESCRIPTION:
URL:https://pilsach.de/veranstaltung/jahreshauptversammlung-6/
LOCATION:Gasthof Am Schloss
END:VEVENT
BEGIN:VEVENT
DTSTART;VALUE=DATE:20251011
DTEND;VALUE=DATE:20251012
DTSTAMP:20260423T093206
CREATED:20240112T084213Z
LAST-MODIFIED:20250227T101945Z
UID:10000516-1760140800-1760227199@pilsach.de
SUMMARY:Königsfeier - Schützenverein Pilsach
DESCRIPTION:19:00 Uhr
URL:https://pilsach.de/veranstaltung/koenigsfeier-3/
LOCATION:Gasthof Am Schloss
CATEGORIES:Verein/Organisation
END:VEVENT
BEGIN:VEVENT
DTSTART;VALUE=DATE:20250315
DTEND;VALUE=DATE:20250316
DTSTAMP:20260423T093206
CREATED:20240111T084138Z
LAST-MODIFIED:20250225T103314Z
UID:10000486-1741996800-1742083199@pilsach.de
SUMMARY:Jahreshauptversammlung OGV Pilsach
DESCRIPTION:19:30 Uhr
URL:https://pilsach.de/veranstaltung/jahreshauptversammlung-ogv-pilsach/
LOCATION:Gasthof Am Schloss
END:VEVENT
BEGIN:VEVENT
DTSTART;VALUE=DATE:20250308
DTEND;VALUE=DATE:20250309
DTSTAMP:20260423T093206
CREATED:20250305T084639Z
LAST-MODIFIED:20250305T084753Z
UID:10000582-1741392000-1741478399@pilsach.de
SUMMARY:Jahreshauptversammlung - FF Pilsach
DESCRIPTION:19:00 Uhr
URL:https://pilsach.de/veranstaltung/jahreshauptversammlung-ff-pilsach-2/
LOCATION:Gasthof Am Schloss
END:VEVENT
BEGIN:VEVENT
DTSTART;VALUE=DATE:20241109
DTEND;VALUE=DATE:20241110
DTSTAMP:20260423T093206
CREATED:20240429T083538Z
LAST-MODIFIED:20240429T083538Z
UID:10000539-1731110400-1731196799@pilsach.de
SUMMARY:Königsfeier Schützenverein Freihölz - Hilzhofen
DESCRIPTION:Beginn 19:30 Uhr \nMusikalische Unterhaltung durch „S-W-S“
URL:https://pilsach.de/veranstaltung/koenigsfeier-schuetzenverein-freihoelz-hilzhofen/
LOCATION:Gasthof Am Schloss
CATEGORIES:Verein/Organisation
END:VEVENT
BEGIN:VEVENT
DTSTART;VALUE=DATE:20231014
DTEND;VALUE=DATE:20231015
DTSTAMP:20260423T093206
CREATED:20230508T145046Z
LAST-MODIFIED:20230509T074820Z
UID:10000441-1697241600-1697327999@pilsach.de
SUMMARY:Königsfeier - Schützenverein Pilsach
DESCRIPTION:19:00 Uhr
URL:https://pilsach.de/veranstaltung/koenigsfeier/
LOCATION:Gasthof Am Schloss
CATEGORIES:Verein/Organisation
END:VEVENT
END:VCALENDAR