BEGIN:VCALENDAR
VERSION:2.0
PRODID:-//Gemeinde Pilsach - ECPv6.15.18//NONSGML v1.0//EN
CALSCALE:GREGORIAN
METHOD:PUBLISH
X-WR-CALNAME:Gemeinde Pilsach
X-ORIGINAL-URL:https://pilsach.de
X-WR-CALDESC:Veranstaltungen für Gemeinde Pilsach
REFRESH-INTERVAL;VALUE=DURATION:PT1H
X-Robots-Tag:noindex
X-PUBLISHED-TTL:PT1H
BEGIN:VTIMEZONE
TZID:Europe/Berlin
BEGIN:DAYLIGHT
TZOFFSETFROM:+0100
TZOFFSETTO:+0200
TZNAME:CEST
DTSTART:20230326T010000
END:DAYLIGHT
BEGIN:STANDARD
TZOFFSETFROM:+0200
TZOFFSETTO:+0100
TZNAME:CET
DTSTART:20231029T010000
END:STANDARD
BEGIN:DAYLIGHT
TZOFFSETFROM:+0100
TZOFFSETTO:+0200
TZNAME:CEST
DTSTART:20240331T010000
END:DAYLIGHT
BEGIN:STANDARD
TZOFFSETFROM:+0200
TZOFFSETTO:+0100
TZNAME:CET
DTSTART:20241027T010000
END:STANDARD
BEGIN:DAYLIGHT
TZOFFSETFROM:+0100
TZOFFSETTO:+0200
TZNAME:CEST
DTSTART:20250330T010000
END:DAYLIGHT
BEGIN:STANDARD
TZOFFSETFROM:+0200
TZOFFSETTO:+0100
TZNAME:CET
DTSTART:20251026T010000
END:STANDARD
BEGIN:DAYLIGHT
TZOFFSETFROM:+0100
TZOFFSETTO:+0200
TZNAME:CEST
DTSTART:20260329T010000
END:DAYLIGHT
BEGIN:STANDARD
TZOFFSETFROM:+0200
TZOFFSETTO:+0100
TZNAME:CET
DTSTART:20261025T010000
END:STANDARD
BEGIN:DAYLIGHT
TZOFFSETFROM:+0100
TZOFFSETTO:+0200
TZNAME:CEST
DTSTART:20270328T010000
END:DAYLIGHT
BEGIN:STANDARD
TZOFFSETFROM:+0200
TZOFFSETTO:+0100
TZNAME:CET
DTSTART:20271031T010000
END:STANDARD
END:VTIMEZONE
BEGIN:VEVENT
DTSTART;VALUE=DATE:20260419
DTEND;VALUE=DATE:20260420
DTSTAMP:20260423T054619
CREATED:20251106T105731Z
LAST-MODIFIED:20251106T105731Z
UID:10000620-1776556800-1776643199@pilsach.de
SUMMARY:Gewerbeschau Pilsach
DESCRIPTION:
URL:https://pilsach.de/veranstaltung/gewerbeschau-pilsach/
LOCATION:Sportgelände Pilsach
END:VEVENT
BEGIN:VEVENT
DTSTART;VALUE=DATE:20260407
DTEND;VALUE=DATE:20260410
DTSTAMP:20260423T054619
CREATED:20251106T105219Z
LAST-MODIFIED:20251106T105219Z
UID:10000617-1775520000-1775779199@pilsach.de
SUMMARY:SSV Jahn Regensbrug Fußballschule
DESCRIPTION:
URL:https://pilsach.de/veranstaltung/ssv-jahn-regensbrug-fussballschule/
LOCATION:Sportgelände Pilsach
END:VEVENT
BEGIN:VEVENT
DTSTART;TZID=Europe/Berlin:20260131T140000
DTEND;TZID=Europe/Berlin:20260131T180000
DTSTAMP:20260423T054619
CREATED:20251106T080303Z
LAST-MODIFIED:20251106T080303Z
UID:10000599-1769868000-1769882400@pilsach.de
SUMMARY:Minimeisterschaften Tischtennis
DESCRIPTION:
URL:https://pilsach.de/veranstaltung/minimeisterschaften-tischtennis/
LOCATION:Sportgelände Pilsach
END:VEVENT
BEGIN:VEVENT
DTSTART;VALUE=DATE:20250423
DTEND;VALUE=DATE:20250426
DTSTAMP:20260423T054619
CREATED:20250225T112851Z
LAST-MODIFIED:20250225T112851Z
UID:10000552-1745366400-1745625599@pilsach.de
SUMMARY:Hans-Dorfner-Fußballschule
DESCRIPTION:
URL:https://pilsach.de/veranstaltung/hans-dorfner-fussballschule-2/
LOCATION:Sportgelände Pilsach
CATEGORIES:Veranstaltungen
END:VEVENT
BEGIN:VEVENT
DTSTART;TZID=Europe/Berlin:20240920T000000
DTEND;TZID=Europe/Berlin:20240922T000000
DTSTAMP:20260423T054619
CREATED:20240112T082354Z
LAST-MODIFIED:20240112T082354Z
UID:10000512-1726790400-1726963200@pilsach.de
SUMMARY:Jubiläum 30 Jahre Bayern Batzis
DESCRIPTION:
URL:https://pilsach.de/veranstaltung/jubilaeum-30-jahre-bayern-batzis/
LOCATION:Sportgelände Pilsach
CATEGORIES:Verein/Organisation
END:VEVENT
BEGIN:VEVENT
DTSTART;VALUE=DATE:20240403
DTEND;VALUE=DATE:20240406
DTSTAMP:20260423T054619
CREATED:20240111T085750Z
LAST-MODIFIED:20240111T085909Z
UID:10000493-1712102400-1712361599@pilsach.de
SUMMARY:Hans Dorfner-Fussballschule
DESCRIPTION:
URL:https://pilsach.de/veranstaltung/hans-dorfner-fussballschule/
LOCATION:Sportgelände Pilsach
CATEGORIES:Veranstaltungen
END:VEVENT
END:VCALENDAR